FILENAME: O4611322.SWS.1077011.tif
QUADRANGLE_NAME: BEARMOUTH
QUADRANT: SW
WEST_LONGITUDE: -113 22 30.00000
EAST_LONGITUDE: -113 18 45.00000
NORTH_LATITUDE: 46 41 15.00000
SOUTH_LATITUDE: 46 37 30.00000
PRODUCTION_DATE: 2000 5 12
RASTER_ORDER: LEFT_RIGHT/TOP_BOTTOM
BAND_ORGANIZATION: SINGLE FILE
BAND_CONTENT: BLACK&WHITE
BAND_CONTENT: UNDEFINED
BAND_CONTENT: UNDEFINED
BITS_PER_PIXEL: 8
SAMPLES_AND_LINES: 5662 7696
HORIZONTAL_DATUM: NAD83
HORIZONTAL_COORDINATE_SYSTEM: UTM
COORDINATE_ZONE: 12
HORIZONTAL_UNITS: METERS
HORIZONTAL_RESOLUTION: 1.00000
SECONDARY_HORIZONTAL_DATUM: NAD27
XY_ORIGIN: 317811.00000 5173478.00000
SECONDARY_XY_ORIGIN: 317875.32600 5173265.47800
NATION: US
NATION: "SCIENCE
STATE: MT
NW_QUAD_CORNER_XY: 318392.19200 5173177.58300
NE_QUAD_CORNER_XY: 323171.19200 5173035.26000
SE_QUAD_CORNERY_XY: 322967.23900 5166090.60200
SW_QUAD_CORNER_XY: 318182.72100 5166232.94300
SECONDARY_NW_QUAD_XY: 318386.63100 5172959.28600
SECONDARY_NE_QUAD_XY: 323165.77800 5172816.95800
SECONDARY_SE_QUAD_XY: 322961.82600 5165872.33200
SECONDARY_SW_QUAD_XY: 318177.16100 5166014.67800
RMSE_XY: 2.60000
IMAGE_SOURCE: BLACK AND WHITE FILM
SOURCE_IMAGE_ID: NAPP 8390 053
SOURCE_IMAGE_DATE: 1995 07 31
SOURCE_IMAGE_ID: NAPP 8390 019
SOURCE_IMAGE_DATE: 1995 07 31
SOURCE_IMAGE_ID: NAPP 8390 054
SOURCE_IMAGE_DATE: 1995 07 31
SOURCE_IMAGE_ID: NAPP 8391 174
SOURCE_IMAGE_DATE: 1995 08 01
SOURCE_DEM_DATE: 1988 00 00
AGENCY: WESTERN MAPPING CENTER (WMC)
PRODUCER: UNDEFINED
PRODUCTION_SYSTEM: GIS/MAGIC
COMPRESSION: UNDEFINED
STANDARD_VERSION: 1996 12
METADATA_DATE: 2000 05 30
DATA_FILE_SIZE: 43580414
BYTE_COUNT: 5662
