FILENAME: O4611320.SES.1074857.tif
QUADRANGLE_NAME: RAVENNA
QUADRANT: SE
WEST_LONGITUDE: -113 33 45.00000
EAST_LONGITUDE: -113 30 0.00000
NORTH_LATITUDE: 46 41 15.00000
SOUTH_LATITUDE: 46 37 30.00000
PRODUCTION_DATE: 2000 5 3
RASTER_ORDER: LEFT_RIGHT/TOP_BOTTOM
BAND_ORGANIZATION: SINGLE FILE
BAND_CONTENT: BLACK&WHITE
BAND_CONTENT: UNDEFINED
BAND_CONTENT: UNDEFINED
BITS_PER_PIXEL: 8
SAMPLES_AND_LINES: 5679 7707
HORIZONTAL_DATUM: NAD83
HORIZONTAL_COORDINATE_SYSTEM: UTM
COORDINATE_ZONE: 12
HORIZONTAL_UNITS: METERS
HORIZONTAL_RESOLUTION: 1.00000
SECONDARY_HORIZONTAL_DATUM: NAD27
XY_ORIGIN: 303457.00000 5173928.00000
SECONDARY_XY_ORIGIN: 303521.70700 5173715.47800
NATION: US
NATION: "SCIENCE
STATE: MT
NW_QUAD_CORNER_XY: 304055.26700 5173627.35000
NE_QUAD_CORNER_XY: 308834.22900 5173473.62800
SE_QUAD_CORNERY_XY: 308613.72000 5166529.02400
SW_QUAD_CORNER_XY: 303829.23900 5166682.76600
SECONDARY_NW_QUAD_XY: 304049.26700 5173409.06600
SECONDARY_NE_QUAD_XY: 308828.37500 5173255.33900
SECONDARY_SE_QUAD_XY: 308607.86800 5166310.76800
SECONDARY_SW_QUAD_XY: 303823.24000 5166464.51400
RMSE_XY: 1.60000
IMAGE_SOURCE: BLACK AND WHITE FILM
SOURCE_IMAGE_ID: NAPP 8391 222
SOURCE_IMAGE_DATE: 1995 08 01
SOURCE_IMAGE_ID: NAPP 8391 223
SOURCE_IMAGE_DATE: 1995 08 01
SOURCE_IMAGE_ID: NAPP 8391 221
SOURCE_IMAGE_DATE: 1995 08 01
SOURCE_DEM_DATE: 2000 01 01
AGENCY: WESTERN MAPPING CENTER (WMC)
PRODUCER: UNDEFINED
PRODUCTION_SYSTEM: GIS/MAGIC
COMPRESSION: UNDEFINED
STANDARD_VERSION: 1996 12
METADATA_DATE: 2000 05 25
DATA_FILE_SIZE: 43773732
BYTE_COUNT: 5679
