FILENAME: O4611319.SES.1074833.tif
QUADRANGLE_NAME: IRIS POINT
QUADRANT: SE
WEST_LONGITUDE: -113 41 15.00000
EAST_LONGITUDE: -113 37 30.00000
NORTH_LATITUDE: 46 41 15.00000
SOUTH_LATITUDE: 46 37 30.00000
PRODUCTION_DATE: 2000 4 25
RASTER_ORDER: LEFT_RIGHT/TOP_BOTTOM
BAND_ORGANIZATION: SINGLE FILE
BAND_CONTENT: BLACK&WHITE
BAND_CONTENT: UNDEFINED
BAND_CONTENT: UNDEFINED
BITS_PER_PIXEL: 8
SAMPLES_AND_LINES: 5690 7715
HORIZONTAL_DATUM: NAD83
HORIZONTAL_COORDINATE_SYSTEM: UTM
COORDINATE_ZONE: 12
HORIZONTAL_UNITS: METERS
HORIZONTAL_RESOLUTION: 1.00000
SECONDARY_HORIZONTAL_DATUM: NAD27
XY_ORIGIN: 293888.00000 5174247.00000
SECONDARY_XY_ORIGIN: 293952.90300 5174034.48100
NATION: US
NATION: "SCIENCE
STATE: MT
NW_QUAD_CORNER_XY: 294497.38400 5173946.19600
NE_QUAD_CORNER_XY: 299276.31900 5173784.87300
SE_QUAD_CORNERY_XY: 299044.77100 5166840.30800
SW_QUAD_CORNER_XY: 294260.31700 5167001.65100
SECONDARY_NW_QUAD_XY: 294491.09200 5173727.92200
SECONDARY_NE_QUAD_XY: 299270.17200 5173566.59300
SECONDARY_SE_QUAD_XY: 299038.62600 5166622.06100
SECONDARY_SW_QUAD_XY: 294254.02500 5166783.41000
RMSE_XY: 4.00000
IMAGE_SOURCE: BLACK AND WHITE FILM
SOURCE_IMAGE_ID: NAPP 8393 132
SOURCE_IMAGE_DATE: 1995 08 19
SOURCE_IMAGE_ID: NAPP 8389 139
SOURCE_IMAGE_DATE: 1995 07 31
SOURCE_IMAGE_ID: NAPP 8389 140
SOURCE_IMAGE_DATE: 1995 07 31
SOURCE_IMAGE_ID: NAPP 8389 141
SOURCE_IMAGE_DATE: 1995 07 31
SOURCE_IMAGE_ID: NAPP 8393 130
SOURCE_IMAGE_DATE: 1995 08 19
SOURCE_DEM_DATE: 1997 00 00
AGENCY: WESTERN MAPPING CENTER (WMC)
PRODUCER: UNDEFINED
PRODUCTION_SYSTEM: GIS/MAGIC
COMPRESSION: UNDEFINED
STANDARD_VERSION: 1996 12
METADATA_DATE: 2000 05 25
DATA_FILE_SIZE: 43904040
BYTE_COUNT: 5690
