FILENAME: O4611315.NES.1078879.tif
QUADRANGLE_NAME: WILD HORSE PARKS
QUADRANT: NE
WEST_LONGITUDE: -113 11 15.00000
EAST_LONGITUDE: -113 7 30.00000
NORTH_LATITUDE: 46 52 30.00000
SOUTH_LATITUDE: 46 48 45.00000
PRODUCTION_DATE: 2000 4 3
RASTER_ORDER: LEFT_RIGHT/TOP_BOTTOM
BAND_ORGANIZATION: SINGLE FILE
BAND_CONTENT: BLACK&WHITE
BAND_CONTENT: UNDEFINED
BAND_CONTENT: UNDEFINED
BITS_PER_PIXEL: 8
SAMPLES_AND_LINES: 5628 7684
HORIZONTAL_DATUM: NAD83
HORIZONTAL_COORDINATE_SYSTEM: UTM
COORDINATE_ZONE: 12
HORIZONTAL_UNITS: METERS
HORIZONTAL_RESOLUTION: 1.00000
SECONDARY_HORIZONTAL_DATUM: NAD27
XY_ORIGIN: 332745.00000 5193897.00000
SECONDARY_XY_ORIGIN: 332808.57900 5193683.94600
NATION: US
NATION: "SCIENCE
STATE: MT
NW_QUAD_CORNER_XY: 333309.18600 5193596.47900
NE_QUAD_CORNER_XY: 338071.63800 5193465.60400
SE_QUAD_CORNERY_XY: 337883.65300 5186520.69800
SW_QUAD_CORNER_XY: 333115.66700 5186651.59100
SECONDARY_NW_QUAD_XY: 333304.06100 5193378.07400
SECONDARY_NE_QUAD_XY: 338066.66000 5193247.19600
SECONDARY_SE_QUAD_XY: 337878.67600 5186302.32000
SECONDARY_SW_QUAD_XY: 333110.54400 5186433.21700
RMSE_XY: 3.80000
IMAGE_SOURCE: BLACK AND WHITE FILM
SOURCE_IMAGE_ID: NAPP 8398 164
SOURCE_IMAGE_DATE: 1995 08 28
SOURCE_IMAGE_ID: NAPP 8398 163
SOURCE_IMAGE_DATE: 1995 08 28
SOURCE_DEM_DATE: 1961 00 00
AGENCY: WESTERN MAPPING CENTER (WMC)
PRODUCER: UNDEFINED
PRODUCTION_SYSTEM: GIS/MAGIC
COMPRESSION: UNDEFINED
STANDARD_VERSION: 1996 12
METADATA_DATE: 2000 05 27
DATA_FILE_SIZE: 43251180
BYTE_COUNT: 5628
