FILENAME: O4611314.SWS.1078846.tif
QUADRANGLE_NAME: ELEVATION MOUNTAIN
QUADRANT: SW
WEST_LONGITUDE: -113 22 30.00000
EAST_LONGITUDE: -113 18 45.00000
NORTH_LATITUDE: 46 48 45.00000
SOUTH_LATITUDE: 46 45 0.00000
PRODUCTION_DATE: 2000 5 8
RASTER_ORDER: LEFT_RIGHT/TOP_BOTTOM
BAND_ORGANIZATION: SINGLE FILE
BAND_CONTENT: BLACK&WHITE
BAND_CONTENT: UNDEFINED
BAND_CONTENT: UNDEFINED
BITS_PER_PIXEL: 8
SAMPLES_AND_LINES: 5650 7696
HORIZONTAL_DATUM: NAD83
HORIZONTAL_COORDINATE_SYSTEM: UTM
COORDINATE_ZONE: 12
HORIZONTAL_UNITS: METERS
HORIZONTAL_RESOLUTION: 1.00000
SECONDARY_HORIZONTAL_DATUM: NAD27
XY_ORIGIN: 318231.00000 5187368.00000
SECONDARY_XY_ORIGIN: 318295.17900 5187155.16500
NATION: US
NATION: "SCIENCE
STATE: MT
NW_QUAD_CORNER_XY: 318811.78500 5187067.05400
NE_QUAD_CORNER_XY: 323579.73300 5186924.76900
SE_QUAD_CORNERY_XY: 323375.35700 5179979.98300
SW_QUAD_CORNER_XY: 318601.88000 5180122.28700
SECONDARY_NW_QUAD_XY: 318806.22300 5186848.69300
SECONDARY_NE_QUAD_XY: 323574.31700 5186706.40300
SECONDARY_SE_QUAD_XY: 323369.94200 5179761.64800
SECONDARY_SW_QUAD_XY: 318596.31800 5179903.95700
RMSE_XY: 4.30000
IMAGE_SOURCE: BLACK AND WHITE FILM
SOURCE_IMAGE_ID: NAPP 8391 179
SOURCE_IMAGE_DATE: 1995 08 01
SOURCE_IMAGE_ID: NAPP 8390 056
SOURCE_IMAGE_DATE: 1995 07 31
SOURCE_IMAGE_ID: NAPP 8390 058
SOURCE_IMAGE_DATE: 1995 07 31
SOURCE_IMAGE_ID: NAPP 8390 059
SOURCE_IMAGE_DATE: 1995 07 31
SOURCE_IMAGE_ID: NAPP 8391 178
SOURCE_IMAGE_DATE: 1995 08 01
SOURCE_DEM_DATE: 1977 00 00
AGENCY: WESTERN MAPPING CENTER (WMC)
PRODUCER: UNDEFINED
PRODUCTION_SYSTEM: GIS/MAGIC
COMPRESSION: UNDEFINED
STANDARD_VERSION: 1996 12
METADATA_DATE: 2000 05 27
DATA_FILE_SIZE: 43488050
BYTE_COUNT: 5650
