FILENAME: O4611311.NES.1078795.tif
QUADRANGLE_NAME: CLINTON
QUADRANT: NE
WEST_LONGITUDE: -113 41 15.00000
EAST_LONGITUDE: -113 37 30.00000
NORTH_LATITUDE: 46 52 30.00000
SOUTH_LATITUDE: 46 48 45.00000
PRODUCTION_DATE: 2000 3 27
RASTER_ORDER: LEFT_RIGHT/TOP_BOTTOM
BAND_ORGANIZATION: SINGLE FILE
BAND_CONTENT: BLACK&WHITE
BAND_CONTENT: UNDEFINED
BAND_CONTENT: UNDEFINED
BITS_PER_PIXEL: 8
SAMPLES_AND_LINES: 5674 7715
HORIZONTAL_DATUM: NAD83
HORIZONTAL_COORDINATE_SYSTEM: UTM
COORDINATE_ZONE: 12
HORIZONTAL_UNITS: METERS
HORIZONTAL_RESOLUTION: 1.00000
SECONDARY_HORIZONTAL_DATUM: NAD27
XY_ORIGIN: 294600.00000 5195081.00000
SECONDARY_XY_ORIGIN: 294664.69500 5194868.15700
NATION: US
NATION: "SCIENCE
STATE: MT
NW_QUAD_CORNER_XY: 295210.06300 5194780.18700
NE_QUAD_CORNER_XY: 299972.40200 5194618.92900
SE_QUAD_CORNERY_XY: 299740.13400 5187674.18400
SW_QUAD_CORNER_XY: 294972.25800 5187835.46400
SECONDARY_NW_QUAD_XY: 295203.76700 5194561.81900
SECONDARY_NE_QUAD_XY: 299966.25200 5194400.55600
SECONDARY_SE_QUAD_XY: 299733.98600 5187455.84100
SECONDARY_SW_QUAD_XY: 294965.96300 5187617.12600
RMSE_XY: 3.10000
IMAGE_SOURCE: BLACK AND WHITE FILM
SOURCE_IMAGE_ID: NAPP 8393 137
SOURCE_IMAGE_DATE: 1995 08 19
SOURCE_IMAGE_ID: NAPP 8393 136
SOURCE_IMAGE_DATE: 1995 08 19
SOURCE_IMAGE_ID: NAPP 8393 138
SOURCE_IMAGE_DATE: 1995 08 19
SOURCE_DEM_DATE: 1965 00 00
AGENCY: WESTERN MAPPING CENTER (WMC)
PRODUCER: UNDEFINED
PRODUCTION_SYSTEM: GIS/MAGIC
COMPRESSION: UNDEFINED
STANDARD_VERSION: 1996 12
METADATA_DATE: 2000 05 27
DATA_FILE_SIZE: 43780584
BYTE_COUNT: 5674
