FILENAME: O4611310.NES.1078763.tif
QUADRANGLE_NAME: BONNER
QUADRANT: NE
WEST_LONGITUDE: -113 48 45.00000
EAST_LONGITUDE: -113 45 0.00000
NORTH_LATITUDE: 46 52 30.00000
SOUTH_LATITUDE: 46 48 45.00000
PRODUCTION_DATE: 2000 3 27
RASTER_ORDER: LEFT_RIGHT/TOP_BOTTOM
BAND_ORGANIZATION: SINGLE FILE
BAND_CONTENT: BLACK&WHITE
BAND_CONTENT: UNDEFINED
BAND_CONTENT: UNDEFINED
BITS_PER_PIXEL: 8
SAMPLES_AND_LINES: 5686 7723
HORIZONTAL_DATUM: NAD83
HORIZONTAL_COORDINATE_SYSTEM: UTM
COORDINATE_ZONE: 12
HORIZONTAL_UNITS: METERS
HORIZONTAL_RESOLUTION: 1.00000
SECONDARY_HORIZONTAL_DATUM: NAD27
XY_ORIGIN: 285063.00000 5195415.00000
SECONDARY_XY_ORIGIN: 285127.89700 5195202.24300
NATION: US
NATION: "SCIENCE
STATE: MT
NW_QUAD_CORNER_XY: 285685.43300 5195114.10200
NE_QUAD_CORNER_XY: 290447.74000 5194945.24500
SE_QUAD_CORNERY_XY: 290204.39700 5188000.54500
SW_QUAD_CORNER_XY: 285436.55200 5188169.42500
SECONDARY_NW_QUAD_XY: 285678.84400 5194895.74400
SECONDARY_NE_QUAD_XY: 290441.29800 5194726.88200
SECONDARY_SE_QUAD_XY: 290197.95600 5187782.21200
SECONDARY_SW_QUAD_XY: 285429.96400 5187951.09800
RMSE_XY: 2.90000
IMAGE_SOURCE: BLACK AND WHITE FILM
SOURCE_IMAGE_ID: NAPP 8389 157
SOURCE_IMAGE_DATE: 1995 07 31
SOURCE_IMAGE_ID: NAPP 8389 158
SOURCE_IMAGE_DATE: 1995 07 31
SOURCE_IMAGE_ID: NAPP 8389 156
SOURCE_IMAGE_DATE: 1995 07 31
SOURCE_IMAGE_ID: NAPP 8389 147
SOURCE_IMAGE_DATE: 1995 07 31
SOURCE_DEM_DATE: 1978 00 00
AGENCY: WESTERN MAPPING CENTER (WMC)
PRODUCER: UNDEFINED
PRODUCTION_SYSTEM: GIS/MAGIC
COMPRESSION: UNDEFINED
STANDARD_VERSION: 1996 12
METADATA_DATE: 2000 05 27
DATA_FILE_SIZE: 43918664
BYTE_COUNT: 5686
