FILENAME: O4611310.NWS.1078764.tif
QUADRANGLE_NAME: BONNER
QUADRANT: NW
WEST_LONGITUDE: -113 52 30.00000
EAST_LONGITUDE: -113 48 45.00000
NORTH_LATITUDE: 46 52 30.00000
SOUTH_LATITUDE: 46 48 45.00000
PRODUCTION_DATE: 2000 3 27
RASTER_ORDER: LEFT_RIGHT/TOP_BOTTOM
BAND_ORGANIZATION: SINGLE FILE
BAND_CONTENT: BLACK&WHITE
BAND_CONTENT: UNDEFINED
BAND_CONTENT: UNDEFINED
BITS_PER_PIXEL: 8
SAMPLES_AND_LINES: 5692 7726
HORIZONTAL_DATUM: NAD83
HORIZONTAL_COORDINATE_SYSTEM: UTM
COORDINATE_ZONE: 12
HORIZONTAL_UNITS: METERS
HORIZONTAL_RESOLUTION: 1.00000
SECONDARY_HORIZONTAL_DATUM: NAD27
XY_ORIGIN: 280295.00000 5195587.00000
SECONDARY_XY_ORIGIN: 280359.98200 5195374.29300
NATION: US
NATION: "SCIENCE
STATE: MT
NW_QUAD_CORNER_XY: 280923.14300 5195286.75900
NE_QUAD_CORNER_XY: 285685.43300 5195114.10200
SE_QUAD_CORNERY_XY: 285436.55200 5188169.42500
SW_QUAD_CORNER_XY: 280668.72300 5188342.10700
SECONDARY_NW_QUAD_XY: 280916.40800 5195068.40700
SECONDARY_NE_QUAD_XY: 285678.84400 5194895.74400
SECONDARY_SE_QUAD_XY: 285429.96400 5187951.09800
SECONDARY_SW_QUAD_XY: 280661.98800 5188123.78500
RMSE_XY: 2.80000
IMAGE_SOURCE: BLACK AND WHITE FILM
SOURCE_IMAGE_ID: NAPP 8393 006
SOURCE_IMAGE_DATE: 1995 08 19
SOURCE_IMAGE_ID: NAPP 8393 007
SOURCE_IMAGE_DATE: 1995 08 19
SOURCE_IMAGE_ID: NAPP 8393 005
SOURCE_IMAGE_DATE: 1995 08 19
SOURCE_DEM_DATE: 1978 00 00
AGENCY: WESTERN MAPPING CENTER (WMC)
PRODUCER: UNDEFINED
PRODUCTION_SYSTEM: GIS/MAGIC
COMPRESSION: UNDEFINED
STANDARD_VERSION: 1996 12
METADATA_DATE: 2000 05 27
DATA_FILE_SIZE: 43982084
BYTE_COUNT: 5692
