FILENAME: O4611309.NWS.1078739.tif
QUADRANGLE_NAME: SOUTHEAST MISSOULA
QUADRANT: NW
WEST_LONGITUDE: -114 0 0.00000
EAST_LONGITUDE: -113 56 15.00000
NORTH_LATITUDE: 46 52 30.00000
SOUTH_LATITUDE: 46 48 45.00000
PRODUCTION_DATE: 2000 3 26
RASTER_ORDER: LEFT_RIGHT/TOP_BOTTOM
BAND_ORGANIZATION: SINGLE FILE
BAND_CONTENT: BLACK&WHITE
BAND_CONTENT: UNDEFINED
BAND_CONTENT: UNDEFINED
BITS_PER_PIXEL: 8
SAMPLES_AND_LINES: 5703 7734
HORIZONTAL_DATUM: NAD83
HORIZONTAL_COORDINATE_SYSTEM: UTM
COORDINATE_ZONE: 12
HORIZONTAL_UNITS: METERS
HORIZONTAL_RESOLUTION: 1.00000
SECONDARY_HORIZONTAL_DATUM: NAD27
XY_ORIGIN: 270759.00000 5195944.00000
SECONDARY_XY_ORIGIN: 270824.15300 5195731.39300
NATION: US
NATION: "SCIENCE
STATE: MT
NW_QUAD_CORNER_XY: 271398.61400 5195643.47600
NE_QUAD_CORNER_XY: 276160.87000 5195463.21700
SE_QUAD_CORNERY_XY: 275900.91000 5188518.58900
SW_QUAD_CORNER_XY: 271133.11400 5188698.87300
SECONDARY_NW_QUAD_XY: 271391.58600 5195425.13500
SECONDARY_NE_QUAD_XY: 276153.98800 5195244.87000
SECONDARY_SE_QUAD_XY: 275894.02900 5188300.27300
SECONDARY_SW_QUAD_XY: 271126.08700 5188480.56200
RMSE_XY: 2.00000
IMAGE_SOURCE: BLACK AND WHITE FILM
SOURCE_IMAGE_ID: NAPP 8389 044
SOURCE_IMAGE_DATE: 1995 07 31
SOURCE_IMAGE_ID: NAPP 8389 043
SOURCE_IMAGE_DATE: 1995 07 31
SOURCE_DEM_DATE: 1978 00 00
AGENCY: WESTERN MAPPING CENTER (WMC)
PRODUCER: UNDEFINED
PRODUCTION_SYSTEM: GIS/MAGIC
COMPRESSION: UNDEFINED
STANDARD_VERSION: 1996 12
METADATA_DATE: 2000 05 27
DATA_FILE_SIZE: 44112705
BYTE_COUNT: 5703
