FILENAME: O4611307.NWS.1078876.tif
QUADRANGLE_NAME: CHAMBERLAIN MOUNTAIN
QUADRANT: NW
WEST_LONGITUDE: -113 15 0.00000
EAST_LONGITUDE: -113 11 15.00000
NORTH_LATITUDE: 47 0 0.00000
SOUTH_LATITUDE: 46 56 15.00000
PRODUCTION_DATE: 2000 5 24
RASTER_ORDER: LEFT_RIGHT/TOP_BOTTOM
BAND_ORGANIZATION: SINGLE FILE
BAND_CONTENT: BLACK&WHITE
BAND_CONTENT: UNDEFINED
BAND_CONTENT: UNDEFINED
BITS_PER_PIXEL: 8
SAMPLES_AND_LINES: 5622 7688
HORIZONTAL_DATUM: NAD83
HORIZONTAL_COORDINATE_SYSTEM: UTM
COORDINATE_ZONE: 12
HORIZONTAL_UNITS: METERS
HORIZONTAL_RESOLUTION: 1.00000
SECONDARY_HORIZONTAL_DATUM: NAD27
XY_ORIGIN: 328376.00000 5207922.00000
SECONDARY_XY_ORIGIN: 328439.41900 5207708.59300
NATION: US
NATION: "SCIENCE
STATE: MT
NW_QUAD_CORNER_XY: 328945.46800 5207621.08200
NE_QUAD_CORNER_XY: 333696.82100 5207486.45000
SE_QUAD_CORNERY_XY: 333502.90400 5200541.43200
SW_QUAD_CORNER_XY: 328746.00400 5200676.08400
SECONDARY_NW_QUAD_XY: 328940.19500 5207402.62300
SECONDARY_NE_QUAD_XY: 333691.69600 5207267.98700
SECONDARY_SE_QUAD_XY: 333497.77900 5200322.99800
SECONDARY_SW_QUAD_XY: 328740.73300 5200457.65400
RMSE_XY: 3.70000
IMAGE_SOURCE: BLACK AND WHITE FILM
SOURCE_IMAGE_ID: NAPP 8393 161
SOURCE_IMAGE_DATE: 1995 08 19
SOURCE_IMAGE_ID: NAPP 8391 186
SOURCE_IMAGE_DATE: 1995 08 01
SOURCE_IMAGE_ID: NAPP 8393 162
SOURCE_IMAGE_DATE: 1995 08 19
SOURCE_IMAGE_ID: NAPP 8393 160
SOURCE_IMAGE_DATE: 1995 08 19
SOURCE_DEM_DATE: 1961 00 00
AGENCY: WESTERN MAPPING CENTER (WMC)
PRODUCER: UNDEFINED
PRODUCTION_SYSTEM: GIS/MAGIC
COMPRESSION: UNDEFINED
STANDARD_VERSION: 1996 12
METADATA_DATE: 2000 05 27
DATA_FILE_SIZE: 43227558
BYTE_COUNT: 5622
