FILENAME: O4611306.SES.1078857.tif
QUADRANGLE_NAME: BATA MOUNTAIN
QUADRANT: SE
WEST_LONGITUDE: -113 18 45.00000
EAST_LONGITUDE: -113 15 0.00000
NORTH_LATITUDE: 46 56 15.00000
SOUTH_LATITUDE: 46 52 30.00000
PRODUCTION_DATE: 2000 5 24
RASTER_ORDER: LEFT_RIGHT/TOP_BOTTOM
BAND_ORGANIZATION: SINGLE FILE
BAND_CONTENT: BLACK&WHITE
BAND_CONTENT: UNDEFINED
BAND_CONTENT: UNDEFINED
BITS_PER_PIXEL: 8
SAMPLES_AND_LINES: 5634 7692
HORIZONTAL_DATUM: NAD83
HORIZONTAL_COORDINATE_SYSTEM: UTM
COORDINATE_ZONE: 12
HORIZONTAL_UNITS: METERS
HORIZONTAL_RESOLUTION: 1.00000
SECONDARY_HORIZONTAL_DATUM: NAD27
XY_ORIGIN: 323414.00000 5201115.00000
SECONDARY_XY_ORIGIN: 323477.73200 5200901.81300
NATION: US
NATION: "SCIENCE
STATE: MT
NW_QUAD_CORNER_XY: 323989.11900 5200814.53300
NE_QUAD_CORNER_XY: 328746.00400 5200676.08400
SE_QUAD_CORNERY_XY: 328546.74600 5193731.15000
SW_QUAD_CORNER_XY: 323784.32000 5193869.61900
SECONDARY_NW_QUAD_XY: 323983.70100 5200596.10700
SECONDARY_NE_QUAD_XY: 328740.73300 5200457.65400
SECONDARY_SE_QUAD_XY: 328541.47600 5193512.75000
SECONDARY_SW_QUAD_XY: 323778.90300 5193651.22300
RMSE_XY: 3.30000
IMAGE_SOURCE: BLACK AND WHITE FILM
SOURCE_IMAGE_ID: NAPP 8391 183
SOURCE_IMAGE_DATE: 1995 08 01
SOURCE_IMAGE_ID: NAPP 8390 060
SOURCE_IMAGE_DATE: 1995 07 31
SOURCE_IMAGE_ID: NAPP 8390 062
SOURCE_IMAGE_DATE: 1995 07 31
SOURCE_IMAGE_ID: NAPP 8391 182
SOURCE_IMAGE_DATE: 1995 08 01
SOURCE_IMAGE_ID: NAPP 8391 184
SOURCE_IMAGE_DATE: 1995 08 01
SOURCE_DEM_DATE: 1977 00 00
AGENCY: WESTERN MAPPING CENTER (WMC)
PRODUCER: UNDEFINED
PRODUCTION_SYSTEM: GIS/MAGIC
COMPRESSION: UNDEFINED
STANDARD_VERSION: 1996 12
METADATA_DATE: 2000 05 27
DATA_FILE_SIZE: 43342362
BYTE_COUNT: 5634
