FILENAME: O4611306.SWS.1078858.tif
QUADRANGLE_NAME: BATA MOUNTAIN
QUADRANT: SW
WEST_LONGITUDE: -113 22 30.00000
EAST_LONGITUDE: -113 18 45.00000
NORTH_LATITUDE: 46 56 15.00000
SOUTH_LATITUDE: 46 52 30.00000
PRODUCTION_DATE: 2000 5 24
RASTER_ORDER: LEFT_RIGHT/TOP_BOTTOM
BAND_ORGANIZATION: SINGLE FILE
BAND_CONTENT: BLACK&WHITE
BAND_CONTENT: UNDEFINED
BAND_CONTENT: UNDEFINED
BITS_PER_PIXEL: 8
SAMPLES_AND_LINES: 5640 7695
HORIZONTAL_DATUM: NAD83
HORIZONTAL_COORDINATE_SYSTEM: UTM
COORDINATE_ZONE: 12
HORIZONTAL_UNITS: METERS
HORIZONTAL_RESOLUTION: 1.00000
SECONDARY_HORIZONTAL_DATUM: NAD27
XY_ORIGIN: 318651.00000 5201257.00000
SECONDARY_XY_ORIGIN: 318714.89100 5201043.85100
NATION: US
NATION: "SCIENCE
STATE: MT
NW_QUAD_CORNER_XY: 319232.24700 5200956.77800
NE_QUAD_CORNER_XY: 323989.11900 5200814.53300
SE_QUAD_CORNERY_XY: 323784.32000 5193869.61900
SW_QUAD_CORNER_XY: 319021.90800 5194011.88500
SECONDARY_NW_QUAD_XY: 319226.68300 5200738.35700
SECONDARY_NE_QUAD_XY: 323983.70100 5200596.10700
SECONDARY_SE_QUAD_XY: 323778.90300 5193651.22300
SECONDARY_SW_QUAD_XY: 319016.34400 5193793.49300
RMSE_XY: 3.60000
IMAGE_SOURCE: BLACK AND WHITE FILM
SOURCE_IMAGE_ID: NAPP 8390 061
SOURCE_IMAGE_DATE: 1995 07 31
SOURCE_IMAGE_ID: NAPP 8390 060
SOURCE_IMAGE_DATE: 1995 07 31
SOURCE_IMAGE_ID: NAPP 8390 062
SOURCE_IMAGE_DATE: 1995 07 31
SOURCE_IMAGE_ID: NAPP 8391 183
SOURCE_IMAGE_DATE: 1995 08 01
SOURCE_DEM_DATE: 1977 00 00
AGENCY: WESTERN MAPPING CENTER (WMC)
PRODUCER: UNDEFINED
PRODUCTION_SYSTEM: GIS/MAGIC
COMPRESSION: UNDEFINED
STANDARD_VERSION: 1996 12
METADATA_DATE: 2000 05 27
DATA_FILE_SIZE: 43405440
BYTE_COUNT: 5640
