FILENAME: O4611305.SES.1078833.tif
QUADRANGLE_NAME: GREENOUGH
QUADRANT: SE
WEST_LONGITUDE: -113 26 15.00000
EAST_LONGITUDE: -113 22 30.00000
NORTH_LATITUDE: 46 56 15.00000
SOUTH_LATITUDE: 46 52 30.00000
PRODUCTION_DATE: 2000 5 24
RASTER_ORDER: LEFT_RIGHT/TOP_BOTTOM
BAND_ORGANIZATION: SINGLE FILE
BAND_CONTENT: BLACK&WHITE
BAND_CONTENT: UNDEFINED
BAND_CONTENT: UNDEFINED
BITS_PER_PIXEL: 8
SAMPLES_AND_LINES: 5646 7699
HORIZONTAL_DATUM: NAD83
HORIZONTAL_COORDINATE_SYSTEM: UTM
COORDINATE_ZONE: 12
HORIZONTAL_UNITS: METERS
HORIZONTAL_RESOLUTION: 1.00000
SECONDARY_HORIZONTAL_DATUM: NAD27
XY_ORIGIN: 313888.00000 5201403.00000
SECONDARY_XY_ORIGIN: 313952.05100 5201189.88900
NATION: US
NATION: "SCIENCE
STATE: MT
NW_QUAD_CORNER_XY: 314475.39000 5201102.82100
NE_QUAD_CORNER_XY: 319232.24700 5200956.77800
SE_QUAD_CORNERY_XY: 319021.90800 5194011.88500
SW_QUAD_CORNER_XY: 314259.50900 5194157.94800
SECONDARY_NW_QUAD_XY: 314469.67900 5200884.40400
SECONDARY_NE_QUAD_XY: 319226.68300 5200738.35700
SECONDARY_SE_QUAD_XY: 319016.34400 5193793.49300
SECONDARY_SW_QUAD_XY: 314253.80000 5193939.56100
RMSE_XY: 2.70000
IMAGE_SOURCE: BLACK AND WHITE FILM
SOURCE_IMAGE_ID: NAPP 8390 010
SOURCE_IMAGE_DATE: 1995 07 31
SOURCE_IMAGE_ID: NAPP 8390 011
SOURCE_IMAGE_DATE: 1995 07 31
SOURCE_IMAGE_ID: NAPP 8390 009
SOURCE_IMAGE_DATE: 1995 07 31
SOURCE_DEM_DATE: 1965 00 00
AGENCY: WESTERN MAPPING CENTER (WMC)
PRODUCER: UNDEFINED
PRODUCTION_SYSTEM: GIS/MAGIC
COMPRESSION: UNDEFINED
STANDARD_VERSION: 1996 12
METADATA_DATE: 2000 05 27
DATA_FILE_SIZE: 43474200
BYTE_COUNT: 5646
