FILENAME: O4611303.SWS.1078810.tif
QUADRANGLE_NAME: SUNFLOWER MOUNTAIN
QUADRANT: SW
WEST_LONGITUDE: -113 45 0.00000
EAST_LONGITUDE: -113 41 15.00000
NORTH_LATITUDE: 46 56 15.00000
SOUTH_LATITUDE: 46 52 30.00000
PRODUCTION_DATE: 2000 5 24
RASTER_ORDER: LEFT_RIGHT/TOP_BOTTOM
BAND_ORGANIZATION: SINGLE FILE
BAND_CONTENT: BLACK&WHITE
BAND_CONTENT: UNDEFINED
BAND_CONTENT: UNDEFINED
BITS_PER_PIXEL: 8
SAMPLES_AND_LINES: 5675 7719
HORIZONTAL_DATUM: NAD83
HORIZONTAL_COORDINATE_SYSTEM: UTM
COORDINATE_ZONE: 12
HORIZONTAL_UNITS: METERS
HORIZONTAL_RESOLUTION: 1.00000
SECONDARY_HORIZONTAL_DATUM: NAD27
XY_ORIGIN: 290075.00000 5202191.00000
SECONDARY_XY_ORIGIN: 290139.72400 5201978.11000
NATION: US
NATION: "SCIENCE
STATE: MT
NW_QUAD_CORNER_XY: 290691.33400 5201890.00400
NE_QUAD_CORNER_XY: 295448.11300 5201724.97000
SE_QUAD_CORNERY_XY: 295210.06300 5194780.18700
SW_QUAD_CORNER_XY: 290447.74000 5194945.24500
SECONDARY_NW_QUAD_XY: 290684.89000 5201671.61100
SECONDARY_NE_QUAD_XY: 295441.81600 5201506.57300
SECONDARY_SE_QUAD_XY: 295203.76700 5194561.81900
SECONDARY_SW_QUAD_XY: 290441.29800 5194726.88200
RMSE_XY: 2.20000
IMAGE_SOURCE: BLACK AND WHITE FILM
SOURCE_IMAGE_ID: NAPP 8389 149
SOURCE_IMAGE_DATE: 1995 07 31
SOURCE_IMAGE_ID: NAPP 8389 156
SOURCE_IMAGE_DATE: 1995 07 31
SOURCE_IMAGE_ID: NAPP 8389 155
SOURCE_IMAGE_DATE: 1995 07 31
SOURCE_IMAGE_ID: NAPP 8389 154
SOURCE_IMAGE_DATE: 1995 07 31
SOURCE_IMAGE_ID: NAPP 8389 147
SOURCE_IMAGE_DATE: 1995 07 31
SOURCE_DEM_DATE: 1989 00 00
AGENCY: WESTERN MAPPING CENTER (WMC)
PRODUCER: UNDEFINED
PRODUCTION_SYSTEM: GIS/MAGIC
COMPRESSION: UNDEFINED
STANDARD_VERSION: 1996 12
METADATA_DATE: 2000 05 27
DATA_FILE_SIZE: 43811000
BYTE_COUNT: 5675
