FILENAME: O4611301.NES.1078734.tif
QUADRANGLE_NAME: NORTHEAST MISSOULA
QUADRANT: NE
WEST_LONGITUDE: -113 56 15.00000
EAST_LONGITUDE: -113 52 30.00000
NORTH_LATITUDE: 47 0 0.00000
SOUTH_LATITUDE: 46 56 15.00000
PRODUCTION_DATE: 2000 5 24
RASTER_ORDER: LEFT_RIGHT/TOP_BOTTOM
BAND_ORGANIZATION: SINGLE FILE
BAND_CONTENT: BLACK&WHITE
BAND_CONTENT: UNDEFINED
BAND_CONTENT: UNDEFINED
BITS_PER_PIXEL: 8
SAMPLES_AND_LINES: 5686 7730
HORIZONTAL_DATUM: NAD83
HORIZONTAL_COORDINATE_SYSTEM: UTM
COORDINATE_ZONE: 12
HORIZONTAL_UNITS: METERS
HORIZONTAL_RESOLUTION: 1.00000
SECONDARY_HORIZONTAL_DATUM: NAD27
XY_ORIGIN: 276048.00000 5209653.00000
SECONDARY_XY_ORIGIN: 276112.91000 5209440.23600
NATION: US
NATION: "SCIENCE
STATE: MT
NW_QUAD_CORNER_XY: 276681.59300 5209352.64200
NE_QUAD_CORNER_XY: 281432.77000 5209176.23600
SE_QUAD_CORNERY_XY: 281177.82600 5202231.46900
SW_QUAD_CORNER_XY: 276421.09800 5202407.90200
SECONDARY_NW_QUAD_XY: 276674.70900 5209134.23700
SECONDARY_NE_QUAD_XY: 281426.03300 5208957.82500
SECONDARY_SE_QUAD_XY: 281171.08900 5202013.08700
SECONDARY_SW_QUAD_XY: 276414.21500 5202189.52500
RMSE_XY: 2.70000
IMAGE_SOURCE: BLACK AND WHITE FILM
SOURCE_IMAGE_ID: NAPP 8389 055
SOURCE_IMAGE_DATE: 1995 07 31
SOURCE_IMAGE_ID: NAPP 8389 047
SOURCE_IMAGE_DATE: 1995 07 31
SOURCE_IMAGE_ID: NAPP 8389 056
SOURCE_IMAGE_DATE: 1995 07 31
SOURCE_IMAGE_ID: NAPP 8389 054
SOURCE_IMAGE_DATE: 1995 07 31
SOURCE_IMAGE_ID: NAPP 8393 002
SOURCE_IMAGE_DATE: 1995 08 19
SOURCE_DEM_DATE: 2000 01 01
AGENCY: WESTERN MAPPING CENTER (WMC)
PRODUCER: UNDEFINED
PRODUCTION_SYSTEM: GIS/MAGIC
COMPRESSION: UNDEFINED
STANDARD_VERSION: 1996 12
METADATA_DATE: 2000 05 27
DATA_FILE_SIZE: 43958466
BYTE_COUNT: 5686
