FILENAME: O4611301.SWS.1078737.tif
QUADRANGLE_NAME: NORTHEAST MISSOULA
QUADRANT: SW
WEST_LONGITUDE: -114 0 0.00000
EAST_LONGITUDE: -113 56 15.00000
NORTH_LATITUDE: 46 56 15.00000
SOUTH_LATITUDE: 46 52 30.00000
PRODUCTION_DATE: 2000 5 24
RASTER_ORDER: LEFT_RIGHT/TOP_BOTTOM
BAND_ORGANIZATION: SINGLE FILE
BAND_CONTENT: BLACK&WHITE
BAND_CONTENT: UNDEFINED
BAND_CONTENT: UNDEFINED
BITS_PER_PIXEL: 8
SAMPLES_AND_LINES: 5698 7734
HORIZONTAL_DATUM: NAD83
HORIZONTAL_COORDINATE_SYSTEM: UTM
COORDINATE_ZONE: 12
HORIZONTAL_UNITS: METERS
HORIZONTAL_RESOLUTION: 1.00000
SECONDARY_HORIZONTAL_DATUM: NAD27
XY_ORIGIN: 271025.00000 5202889.00000
SECONDARY_XY_ORIGIN: 271090.07900 5202676.34800
NATION: US
NATION: "SCIENCE
STATE: MT
NW_QUAD_CORNER_XY: 271664.38800 5202588.13400
NE_QUAD_CORNER_XY: 276421.09800 5202407.90200
SE_QUAD_CORNERY_XY: 276160.87000 5195463.21700
SW_QUAD_CORNER_XY: 271398.61400 5195643.47600
SECONDARY_NW_QUAD_XY: 271657.35900 5202369.76300
SECONDARY_NE_QUAD_XY: 276414.21500 5202189.52500
SECONDARY_SE_QUAD_XY: 276153.98800 5195244.87000
SECONDARY_SW_QUAD_XY: 271391.58600 5195425.13500
RMSE_XY: 0.90000
IMAGE_SOURCE: BLACK AND WHITE FILM
SOURCE_IMAGE_ID: NAPP 8389 046
SOURCE_IMAGE_DATE: 1995 07 31
SOURCE_IMAGE_ID: NAPP 8389 044
SOURCE_IMAGE_DATE: 1995 07 31
SOURCE_IMAGE_ID: NAPP 8389 045
SOURCE_IMAGE_DATE: 1995 07 31
SOURCE_IMAGE_ID: NAPP 8389 058
SOURCE_IMAGE_DATE: 1995 07 31
SOURCE_DEM_DATE: 2000 01 01
AGENCY: WESTERN MAPPING CENTER (WMC)
PRODUCER: UNDEFINED
PRODUCTION_SYSTEM: GIS/MAGIC
COMPRESSION: UNDEFINED
STANDARD_VERSION: 1996 12
METADATA_DATE: 2000 05 27
DATA_FILE_SIZE: 44074030
BYTE_COUNT: 5698
