FILENAME: O4611464.SES.1068774.tif
QUADRANGLE_NAME: DEER MOUNTAIN
QUADRANT: SE
WEST_LONGITUDE: -114 3 45.00000
EAST_LONGITUDE: -114 0 0.00000
NORTH_LATITUDE: 46 3 45.00000
SOUTH_LATITUDE: 46 0 0.00000
PRODUCTION_DATE: 2000 3 9
RASTER_ORDER: LEFT_RIGHT/TOP_BOTTOM
BAND_ORGANIZATION: SINGLE FILE
BAND_CONTENT: BLACK&WHITE
BAND_CONTENT: UNDEFINED
BAND_CONTENT: UNDEFINED
BITS_PER_PIXEL: 8
SAMPLES_AND_LINES: 5770 7738
HORIZONTAL_DATUM: NAD83
HORIZONTAL_COORDINATE_SYSTEM: UTM
COORDINATE_ZONE: 11
HORIZONTAL_UNITS: METERS
HORIZONTAL_RESOLUTION: 1.00000
SECONDARY_HORIZONTAL_DATUM: NAD27
XY_ORIGIN: 726825.00000 5105668.00000
SECONDARY_XY_ORIGIN: 726902.63200 5105461.52400
NATION: US
NATION: "SCIENCE
STATE: MT
NW_QUAD_CORNER_XY: 727197.60900 5105187.44200
NE_QUAD_CORNER_XY: 732031.44200 5105367.96200
SE_QUAD_CORNERY_XY: 732293.35900 5098424.07900
SW_QUAD_CORNER_XY: 727454.06000 5098243.54600
SECONDARY_NW_QUAD_XY: 727204.47400 5104969.55600
SECONDARY_NE_QUAD_XY: 732038.45300 5105150.08100
SECONDARY_SE_QUAD_XY: 732300.36800 5098206.24000
SECONDARY_SW_QUAD_XY: 727460.92300 5098025.70100
RMSE_XY: 3.50000
IMAGE_SOURCE: BLACK AND WHITE FILM
SOURCE_IMAGE_ID: NAPP 8406 252
SOURCE_IMAGE_DATE: 1995 07 31
SOURCE_IMAGE_ID: NAPP 8406 244
SOURCE_IMAGE_DATE: 1995 07 31
SOURCE_IMAGE_ID: NAPP 8406 246
SOURCE_IMAGE_DATE: 1995 07 31
SOURCE_IMAGE_ID: NAPP 8406 253
SOURCE_IMAGE_DATE: 1995 07 31
SOURCE_IMAGE_ID: NAPP 8406 251
SOURCE_IMAGE_DATE: 1995 07 31
SOURCE_DEM_DATE: 1990 00 00
AGENCY: WESTERN MAPPING CENTER (WMC)
PRODUCER: UNDEFINED
PRODUCTION_SYSTEM: GIS/MAGIC
COMPRESSION: UNDEFINED
STANDARD_VERSION: 1996 12
METADATA_DATE: 2000 04 20
DATA_FILE_SIZE: 44654030
BYTE_COUNT: 5770
