FILENAME: O4611463.NWS.1068407.tif
QUADRANGLE_NAME: DARBY
QUADRANT: NW
WEST_LONGITUDE: -114 15 0.00000
EAST_LONGITUDE: -114 11 15.00000
NORTH_LATITUDE: 46 7 30.00000
SOUTH_LATITUDE: 46 3 45.00000
PRODUCTION_DATE: 2000 3 20
RASTER_ORDER: LEFT_RIGHT/TOP_BOTTOM
BAND_ORGANIZATION: SINGLE FILE
BAND_CONTENT: BLACK&WHITE
BAND_CONTENT: UNDEFINED
BAND_CONTENT: UNDEFINED
BITS_PER_PIXEL: 8
SAMPLES_AND_LINES: 5748 7727
HORIZONTAL_DATUM: NAD83
HORIZONTAL_COORDINATE_SYSTEM: UTM
COORDINATE_ZONE: 11
HORIZONTAL_UNITS: METERS
HORIZONTAL_RESOLUTION: 1.00000
SECONDARY_HORIZONTAL_DATUM: NAD27
XY_ORIGIN: 712083.00000 5112082.00000
SECONDARY_XY_ORIGIN: 712160.62800 5111875.32300
NATION: US
NATION: "SCIENCE
STATE: MT
NW_QUAD_CORNER_XY: 712455.74100 5111612.71700
NE_QUAD_CORNER_XY: 717284.13300 5111781.80400
SE_QUAD_CORNERY_XY: 717529.91400 5104837.82200
SW_QUAD_CORNER_XY: 712696.05200 5104668.72200
SECONDARY_NW_QUAD_XY: 712462.16900 5111394.77500
SECONDARY_NE_QUAD_XY: 717290.70700 5111563.86700
SECONDARY_SE_QUAD_XY: 717536.48700 5104619.92600
SECONDARY_SW_QUAD_XY: 712702.47800 5104450.82000
RMSE_XY: 2.00000
IMAGE_SOURCE: BLACK AND WHITE FILM
SOURCE_IMAGE_ID: NAPP 8406 121
SOURCE_IMAGE_DATE: 1995 07 31
SOURCE_IMAGE_ID: NAPP 8407 165
SOURCE_IMAGE_DATE: 1995 08 19
SOURCE_DEM_DATE: 1997 00 00
AGENCY: WESTERN MAPPING CENTER (WMC)
PRODUCER: UNDEFINED
PRODUCTION_SYSTEM: GIS/MAGIC
COMPRESSION: UNDEFINED
STANDARD_VERSION: 1996 12
METADATA_DATE: 2000 04 20
DATA_FILE_SIZE: 44420544
BYTE_COUNT: 5748
