FILENAME: O4611463.SES.1068408.tif
QUADRANGLE_NAME: DARBY
QUADRANT: SE
WEST_LONGITUDE: -114 11 15.00000
EAST_LONGITUDE: -114 7 30.00000
NORTH_LATITUDE: 46 3 45.00000
SOUTH_LATITUDE: 46 0 0.00000
PRODUCTION_DATE: 2000 3 20
RASTER_ORDER: LEFT_RIGHT/TOP_BOTTOM
BAND_ORGANIZATION: SINGLE FILE
BAND_CONTENT: BLACK&WHITE
BAND_CONTENT: UNDEFINED
BAND_CONTENT: UNDEFINED
BITS_PER_PIXEL: 8
SAMPLES_AND_LINES: 5759 7731
HORIZONTAL_DATUM: NAD83
HORIZONTAL_COORDINATE_SYSTEM: UTM
COORDINATE_ZONE: 11
HORIZONTAL_UNITS: METERS
HORIZONTAL_RESOLUTION: 1.00000
SECONDARY_HORIZONTAL_DATUM: NAD27
XY_ORIGIN: 717157.00000 5105311.00000
SECONDARY_XY_ORIGIN: 717234.58700 5105104.44000
NATION: US
NATION: "SCIENCE
STATE: MT
NW_QUAD_CORNER_XY: 717529.91400 5104837.82200
NE_QUAD_CORNER_XY: 722363.76700 5105010.72900
SE_QUAD_CORNERY_XY: 722614.75200 5098066.81900
SW_QUAD_CORNER_XY: 717775.43500 5097893.89900
SECONDARY_NW_QUAD_XY: 717536.48700 5104619.92600
SECONDARY_NE_QUAD_XY: 722370.48500 5104792.83800
SECONDARY_SE_QUAD_XY: 722621.46900 5097848.96900
SECONDARY_SW_QUAD_XY: 717782.00600 5097676.04400
RMSE_XY: 1.50000
IMAGE_SOURCE: BLACK AND WHITE FILM
SOURCE_IMAGE_ID: NAPP 8406 084
SOURCE_IMAGE_DATE: 1995 07 31
SOURCE_IMAGE_ID: NAPP 8406 083
SOURCE_IMAGE_DATE: 1995 07 31
SOURCE_IMAGE_ID: NAPP 8406 246
SOURCE_IMAGE_DATE: 1995 07 31
SOURCE_DEM_DATE: 1997 00 00
AGENCY: WESTERN MAPPING CENTER (WMC)
PRODUCER: UNDEFINED
PRODUCTION_SYSTEM: GIS/MAGIC
COMPRESSION: UNDEFINED
STANDARD_VERSION: 1996 12
METADATA_DATE: 2000 04 20
DATA_FILE_SIZE: 44528588
BYTE_COUNT: 5759
