FILENAME: O4611463.SWS.1068409.tif
QUADRANGLE_NAME: DARBY
QUADRANT: SW
WEST_LONGITUDE: -114 15 0.00000
EAST_LONGITUDE: -114 11 15.00000
NORTH_LATITUDE: 46 3 45.00000
SOUTH_LATITUDE: 46 0 0.00000
PRODUCTION_DATE: 2000 3 9
RASTER_ORDER: LEFT_RIGHT/TOP_BOTTOM
BAND_ORGANIZATION: SINGLE FILE
BAND_CONTENT: BLACK&WHITE
BAND_CONTENT: UNDEFINED
BAND_CONTENT: UNDEFINED
BITS_PER_PIXEL: 8
SAMPLES_AND_LINES: 5754 7727
HORIZONTAL_DATUM: NAD83
HORIZONTAL_COORDINATE_SYSTEM: UTM
COORDINATE_ZONE: 11
HORIZONTAL_UNITS: METERS
HORIZONTAL_RESOLUTION: 1.00000
SECONDARY_HORIZONTAL_DATUM: NAD27
XY_ORIGIN: 712323.00000 5105138.00000
SECONDARY_XY_ORIGIN: 712400.56500 5104931.39800
NATION: US
NATION: "SCIENCE
STATE: MT
NW_QUAD_CORNER_XY: 712696.05200 5104668.72200
NE_QUAD_CORNER_XY: 717529.91400 5104837.82200
SE_QUAD_CORNERY_XY: 717775.43500 5097893.89900
SW_QUAD_CORNER_XY: 712936.10900 5097724.78500
SECONDARY_NW_QUAD_XY: 712702.47800 5104450.82000
SECONDARY_NE_QUAD_XY: 717536.48700 5104619.92600
SECONDARY_SE_QUAD_XY: 717782.00600 5097676.04400
SECONDARY_SW_QUAD_XY: 712942.53400 5097506.92500
RMSE_XY: 2.10000
IMAGE_SOURCE: BLACK AND WHITE FILM
SOURCE_IMAGE_ID: NAPP 8406 119
SOURCE_IMAGE_DATE: 1995 07 31
SOURCE_IMAGE_ID: NAPP 8407 161
SOURCE_IMAGE_DATE: 1995 08 19
SOURCE_DEM_DATE: 1997 00 00
AGENCY: WESTERN MAPPING CENTER (WMC)
PRODUCER: UNDEFINED
PRODUCTION_SYSTEM: GIS/MAGIC
COMPRESSION: UNDEFINED
STANDARD_VERSION: 1996 12
METADATA_DATE: 2000 04 20
DATA_FILE_SIZE: 44466912
BYTE_COUNT: 5754
