BEGIN_USGS_DOQ_HEADER *
QUADRANGLE_NAME "EL CAPITAN" *
QUADRANT NW *
WEST_LONGITUDE -114 30 0.000 *
EAST_LONGITUDE -114 26 15.000 *
NORTH_LATITUDE 46 7 30.000 *
SOUTH_LATITUDE 46 3 45.000 *
PRODUCTION_DATE 2003 4 1 *
RASTER_ORDER LEFT_RIGHT/TOP_BOTTOM *
BAND_ORGANIZATION "SINGLE FILE" *
BAND_CONTENT BLACK&WHITE *
BITS_PER_PIXEL 8 *
SAMPLES_AND_LINES 5725 7704 *
HORIZONTAL_DATUM NAD83 *
HORIZONTAL_COORDINATE_SYSTEM UTM *
COORDINATE_ZONE 11 *
HORIZONTAL_UNITS METERS *
HORIZONTAL_RESOLUTION 1.0 *
SECONDARY_HORIZONTAL_DATUM NAD27 *
XY_ORIGIN 692769.910 5111434.810 *
SECONDARY_XY_ORIGIN 692847.364 5111227.962 *
NATION US *
STATE MT *
STATE ID *
NW_QUAD_CORNER_XY 693142.076 5110974.418 *
NE_QUAD_CORNER_XY 697970.506 5111128.286 *
SE_QUAD_CORNER_XY 698194.411 5104184.251 *
SW_QUAD_CORNER_XY 693360.513 5104030.370 *
SECONDARY_NW_QUAD_XY 693147.921 5110756.457 *
SECONDARY_NE_QUAD_XY 697976.497 5110910.330 *
SECONDARY_SE_QUAD_XY 698200.401 5103966.335 *
SECONDARY_SW_QUAD_XY 693366.357 5103812.450 *
RMSE_XY 1.00 *
IMAGE_SOURCE "BLACK AND WHITE FILM" *
SOURCE_IMAGE_ID "NAPP 10653 48" *
SOURCE_IMAGE_DATE 1998 9 15 *
SOURCE_IMAGE_ID "NAPP 10653 47" *
SOURCE_IMAGE_DATE 1998 9 15 *
SOURCE_IMAGE_ID "NAPP 10653 49" *
SOURCE_IMAGE_DATE 1998 9 15 *
SOURCE_IMAGE_ID "NAPP 10652 202" *
SOURCE_IMAGE_DATE 1998 9 15 *
SOURCE_IMAGE_ID "NAPP 10652 203" *
SOURCE_IMAGE_DATE 1998 9 15 *
SOURCE_IMAGE_ID "NAPP 10652 204" *
SOURCE_IMAGE_DATE 1998 9 15 *
SOURCE_IMAGE_ID "NAPP 10653 92" *
SOURCE_IMAGE_DATE 1998 9 15 *
SOURCE_IMAGE_ID "NAPP 10653 91" *
SOURCE_IMAGE_DATE 1998 9 15 *
SOURCE_IMAGE_ID "NAPP 10653 90" *
SOURCE_IMAGE_DATE 1998 9 15 *
SOURCE_DEM_DATE 2003 1 1 *
AGENCY "WESTERN MAPPING CENTER (WMC)" *
PRODUCER "USDA FS GEOSPATIAL SERVICE AND TECHNOLOGY CENTER" *
PRODUCTION_SYSTEM "ORBIT OR_RECTIFY V.5.2" *
STANDARD_VERSION 1996 12 *
METADATA_DATE 2003 3 19 *
DATA_FILE_SIZE 44111125 *
BYTE_COUNT 5725 *
