FILENAME: O4611455.NWS.1068403.tif
QUADRANGLE_NAME: HAMILTON SOUTH
QUADRANT: NW
WEST_LONGITUDE: -114 15 0.00000
EAST_LONGITUDE: -114 11 15.00000
NORTH_LATITUDE: 46 15 0.00000
SOUTH_LATITUDE: 46 11 15.00000
PRODUCTION_DATE: 2000 3 9
RASTER_ORDER: LEFT_RIGHT/TOP_BOTTOM
BAND_ORGANIZATION: SINGLE FILE
BAND_CONTENT: BLACK&WHITE
BAND_CONTENT: UNDEFINED
BAND_CONTENT: UNDEFINED
BITS_PER_PIXEL: 8
SAMPLES_AND_LINES: 5738 7727
HORIZONTAL_DATUM: NAD83
HORIZONTAL_COORDINATE_SYSTEM: UTM
COORDINATE_ZONE: 11
HORIZONTAL_UNITS: METERS
HORIZONTAL_RESOLUTION: 1.00000
SECONDARY_HORIZONTAL_DATUM: NAD27
XY_ORIGIN: 711602.00000 5125970.00000
SECONDARY_XY_ORIGIN: 711679.75400 5125763.17300
NATION: US
NATION: "SCIENCE
STATE: MT
NW_QUAD_CORNER_XY: 711974.35600 5125500.88400
NE_QUAD_CORNER_XY: 716791.79200 5125669.94100
SE_QUAD_CORNERY_XY: 717038.09200 5118725.84300
SW_QUAD_CORNER_XY: 712215.17600 5118556.77100
SECONDARY_NW_QUAD_XY: 711980.78700 5125282.86300
SECONDARY_NE_QUAD_XY: 716798.36800 5125451.92500
SECONDARY_SE_QUAD_XY: 717044.66700 5118507.86600
SECONDARY_SW_QUAD_XY: 712221.60500 5118338.78900
RMSE_XY: 2.10000
IMAGE_SOURCE: BLACK AND WHITE FILM
SOURCE_IMAGE_ID: NAPP 8406 125
SOURCE_IMAGE_DATE: 1995 07 31
SOURCE_IMAGE_ID: NAPP 8407 167
SOURCE_IMAGE_DATE: 1995 08 19
SOURCE_IMAGE_ID: NAPP 8407 168
SOURCE_IMAGE_DATE: 1995 08 19
SOURCE_IMAGE_ID: NAPP 8407 169
SOURCE_IMAGE_DATE: 1995 08 19
SOURCE_IMAGE_ID: NAPP 8406 124
SOURCE_IMAGE_DATE: 1995 07 31
SOURCE_DEM_DATE: 1997 00 00
AGENCY: WESTERN MAPPING CENTER (WMC)
PRODUCER: UNDEFINED
PRODUCTION_SYSTEM: GIS/MAGIC
COMPRESSION: UNDEFINED
STANDARD_VERSION: 1996 12
METADATA_DATE: 2000 04 20
DATA_FILE_SIZE: 44343264
BYTE_COUNT: 5738
