BEGIN_USGS_DOQ_HEADER *
QUADRANGLE_NAME "TENMILE LAKE" *
QUADRANT SW *
WEST_LONGITUDE -114 30 0.000 *
EAST_LONGITUDE -114 26 15.000 *
NORTH_LATITUDE 46 11 15.000 *
SOUTH_LATITUDE 46 7 30.000 *
PRODUCTION_DATE 2003 4 1 *
RASTER_ORDER LEFT_RIGHT/TOP_BOTTOM *
BAND_ORGANIZATION "SINGLE FILE" *
BAND_CONTENT BLACK&WHITE *
BITS_PER_PIXEL 8 *
SAMPLES_AND_LINES 5719 7704 *
HORIZONTAL_DATUM NAD83 *
HORIZONTAL_COORDINATE_SYSTEM UTM *
COORDINATE_ZONE 11 *
HORIZONTAL_UNITS METERS *
HORIZONTAL_RESOLUTION 1.0 *
SECONDARY_HORIZONTAL_DATUM NAD27 *
XY_ORIGIN 692551.220 5118378.860 *
SECONDARY_XY_ORIGIN 692628.701 5118171.931 *
NATION US *
STATE MT *
STATE ID *
NW_QUAD_CORNER_XY 692923.408 5117918.527 *
NE_QUAD_CORNER_XY 697746.365 5118072.382 *
SE_QUAD_CORNER_XY 697970.506 5111128.286 *
SW_QUAD_CORNER_XY 693142.076 5110974.418 *
SECONDARY_NW_QUAD_XY 692929.254 5117700.527 *
SECONDARY_NE_QUAD_XY 697752.357 5117854.386 *
SECONDARY_SE_QUAD_XY 697976.497 5110910.330 *
SECONDARY_SW_QUAD_XY 693147.921 5110756.457 *
RMSE_XY 1.00 *
IMAGE_SOURCE "BLACK AND WHITE FILM" *
SOURCE_IMAGE_ID "NAPP 10653 50" *
SOURCE_IMAGE_DATE 1998 9 15 *
SOURCE_IMAGE_ID "NAPP 10653 49" *
SOURCE_IMAGE_DATE 1998 9 15 *
SOURCE_IMAGE_ID "NAPP 10653 51" *
SOURCE_IMAGE_DATE 1998 9 15 *
SOURCE_IMAGE_ID "NAPP 10652 204" *
SOURCE_IMAGE_DATE 1998 9 15 *
SOURCE_IMAGE_ID "NAPP 10652 205" *
SOURCE_IMAGE_DATE 1998 9 15 *
SOURCE_IMAGE_ID "NAPP 10652 206" *
SOURCE_IMAGE_DATE 1998 9 15 *
SOURCE_IMAGE_ID "NAPP 10653 90" *
SOURCE_IMAGE_DATE 1998 9 15 *
SOURCE_IMAGE_ID "NAPP 10653 89" *
SOURCE_IMAGE_DATE 1998 9 15 *
SOURCE_IMAGE_ID "NAPP 10653 88" *
SOURCE_IMAGE_DATE 1998 9 15 *
SOURCE_DEM_DATE 2003 1 1 *
AGENCY "WESTERN MAPPING CENTER (WMC)" *
PRODUCER "USDA FS GEOSPATIAL SERVICE AND TECHNOLOGY CENTER" *
PRODUCTION_SYSTEM "ORBIT OR_RECTIFY V.5.2" *
STANDARD_VERSION 1996 12 *
METADATA_DATE 2003 3 19 *
DATA_FILE_SIZE 44064895 *
BYTE_COUNT 5719 *
