FILENAME: O4611448.NES.1068757.tif
QUADRANGLE_NAME: CORVALLIS
QUADRANT: NE
WEST_LONGITUDE: -114 3 45.00000
EAST_LONGITUDE: -114 0 0.00000
NORTH_LATITUDE: 46 22 30.00000
SOUTH_LATITUDE: 46 18 45.00000
PRODUCTION_DATE: 2000 3 15
RASTER_ORDER: LEFT_RIGHT/TOP_BOTTOM
BAND_ORGANIZATION: SINGLE FILE
BAND_CONTENT: BLACK&WHITE
BAND_CONTENT: UNDEFINED
BAND_CONTENT: UNDEFINED
BITS_PER_PIXEL: 8
SAMPLES_AND_LINES: 5744 7739
HORIZONTAL_DATUM: NAD83
HORIZONTAL_COORDINATE_SYSTEM: UTM
COORDINATE_ZONE: 11
HORIZONTAL_UNITS: METERS
HORIZONTAL_RESOLUTION: 1.00000
SECONDARY_HORIZONTAL_DATUM: NAD27
XY_ORIGIN: 725539.00000 5140389.00000
SECONDARY_XY_ORIGIN: 725617.12300 5140182.23500
NATION: US
NATION: "SCIENCE
STATE: MT
NW_QUAD_CORNER_XY: 725911.28600 5139907.76800
NE_QUAD_CORNER_XY: 730717.70300 5140088.20500
SE_QUAD_CORNERY_XY: 730981.00400 5133144.04500
SW_QUAD_CORNER_XY: 726169.09200 5132963.59100
SECONDARY_NW_QUAD_XY: 725918.15800 5139689.68800
SECONDARY_NE_QUAD_XY: 730724.72100 5139870.13000
SECONDARY_SE_QUAD_XY: 730988.02100 5132926.00800
SECONDARY_SW_QUAD_XY: 726175.96300 5132745.54700
RMSE_XY: 1.30000
IMAGE_SOURCE: BLACK AND WHITE FILM
SOURCE_IMAGE_ID: NAPP 8406 032
SOURCE_IMAGE_DATE: 1995 07 31
SOURCE_DEM_DATE: 1990 00 00
AGENCY: WESTERN MAPPING CENTER (WMC)
PRODUCER: UNDEFINED
PRODUCTION_SYSTEM: GIS/MAGIC
COMPRESSION: UNDEFINED
STANDARD_VERSION: 1996 12
METADATA_DATE: 2000 04 20
DATA_FILE_SIZE: 44458560
BYTE_COUNT: 5744
