FILENAME: O4611447.NWS.1068419.tif
QUADRANGLE_NAME: HAMILTON NORTH
QUADRANT: NW
WEST_LONGITUDE: -114 15 0.00000
EAST_LONGITUDE: -114 11 15.00000
NORTH_LATITUDE: 46 22 30.00000
SOUTH_LATITUDE: 46 18 45.00000
PRODUCTION_DATE: 2000 3 22
RASTER_ORDER: LEFT_RIGHT/TOP_BOTTOM
BAND_ORGANIZATION: SINGLE FILE
BAND_CONTENT: BLACK&WHITE
BAND_CONTENT: UNDEFINED
BAND_CONTENT: UNDEFINED
BITS_PER_PIXEL: 8
SAMPLES_AND_LINES: 5728 7728
HORIZONTAL_DATUM: NAD83
HORIZONTAL_COORDINATE_SYSTEM: UTM
COORDINATE_ZONE: 11
HORIZONTAL_UNITS: METERS
HORIZONTAL_RESOLUTION: 1.00000
SECONDARY_HORIZONTAL_DATUM: NAD27
XY_ORIGIN: 711119.00000 5139859.00000
SECONDARY_XY_ORIGIN: 711196.96500 5139652.04600
NATION: US
NATION: "SCIENCE
STATE: MT
NW_QUAD_CORNER_XY: 711491.95700 5139389.28600
NE_QUAD_CORNER_XY: 716298.41200 5139558.31000
SE_QUAD_CORNERY_XY: 716545.23200 5132614.09600
SW_QUAD_CORNER_XY: 711733.28300 5132445.05600
SECONDARY_NW_QUAD_XY: 711498.39000 5139171.19000
SECONDARY_NE_QUAD_XY: 716304.99200 5139340.21900
SECONDARY_SE_QUAD_XY: 716551.80900 5132396.04200
SECONDARY_SW_QUAD_XY: 711739.71500 5132226.99700
RMSE_XY: 1.00000
IMAGE_SOURCE: BLACK AND WHITE FILM
SOURCE_IMAGE_ID: NAPP 8406 129
SOURCE_IMAGE_DATE: 1995 07 31
SOURCE_IMAGE_ID: NAPP 8407 171
SOURCE_IMAGE_DATE: 1995 08 19
SOURCE_IMAGE_ID: NAPP 8406 127
SOURCE_IMAGE_DATE: 1995 07 31
SOURCE_DEM_DATE: 1997 00 00
AGENCY: WESTERN MAPPING CENTER (WMC)
PRODUCER: UNDEFINED
PRODUCTION_SYSTEM: GIS/MAGIC
COMPRESSION: UNDEFINED
STANDARD_VERSION: 1996 12
METADATA_DATE: 2000 04 20
DATA_FILE_SIZE: 44271712
BYTE_COUNT: 5728
