FILENAME: O4611446.NWS.1068328.tif
QUADRANGLE_NAME: PRINTZ RIDGE
QUADRANT: NW
WEST_LONGITUDE: -114 22 30.00000
EAST_LONGITUDE: -114 18 45.00000
NORTH_LATITUDE: 46 22 30.00000
SOUTH_LATITUDE: 46 18 45.00000
PRODUCTION_DATE: 2000 3 22
RASTER_ORDER: LEFT_RIGHT/TOP_BOTTOM
BAND_ORGANIZATION: SINGLE FILE
BAND_CONTENT: BLACK&WHITE
BAND_CONTENT: UNDEFINED
BAND_CONTENT: UNDEFINED
BITS_PER_PIXEL: 8
SAMPLES_AND_LINES: 5717 7720
HORIZONTAL_DATUM: NAD83
HORIZONTAL_COORDINATE_SYSTEM: UTM
COORDINATE_ZONE: 11
HORIZONTAL_UNITS: METERS
HORIZONTAL_RESOLUTION: 1.00000
SECONDARY_HORIZONTAL_DATUM: NAD27
XY_ORIGIN: 701506.00000 5139525.00000
SECONDARY_XY_ORIGIN: 701583.81700 5139317.96800
NATION: US
NATION: "SCIENCE
STATE: MT
NW_QUAD_CORNER_XY: 701879.01100 5139062.65100
NE_QUAD_CORNER_XY: 706685.49000 5139224.06700
SE_QUAD_CORNERY_XY: 706921.32400 5132279.82000
SW_QUAD_CORNER_XY: 702109.35300 5132118.38700
SECONDARY_NW_QUAD_XY: 701885.15100 5138844.54400
SECONDARY_NE_QUAD_XY: 706691.77700 5139005.96600
SECONDARY_SE_QUAD_XY: 706927.60900 5132061.75600
SECONDARY_SW_QUAD_XY: 702115.49200 5131900.31800
RMSE_XY: 4.30000
IMAGE_SOURCE: BLACK AND WHITE FILM
SOURCE_IMAGE_ID: NAPP 8407 174
SOURCE_IMAGE_DATE: 1995 08 19
SOURCE_IMAGE_ID: NAPP 8407 047
SOURCE_IMAGE_DATE: 1995 08 19
SOURCE_IMAGE_ID: NAPP 8407 049
SOURCE_IMAGE_DATE: 1995 08 19
SOURCE_IMAGE_ID: NAPP 8407 172
SOURCE_IMAGE_DATE: 1995 08 19
SOURCE_IMAGE_ID: NAPP 8407 173
SOURCE_IMAGE_DATE: 1995 08 19
SOURCE_DEM_DATE: 1997 00 00
AGENCY: WESTERN MAPPING CENTER (WMC)
PRODUCER: UNDEFINED
PRODUCTION_SYSTEM: GIS/MAGIC
COMPRESSION: UNDEFINED
STANDARD_VERSION: 1996 12
METADATA_DATE: 2000 04 20
DATA_FILE_SIZE: 44140957
BYTE_COUNT: 5717
