FILENAME: O4611446.SWS.1068330.tif
QUADRANGLE_NAME: PRINTZ RIDGE
QUADRANT: SW
WEST_LONGITUDE: -114 22 30.00000
EAST_LONGITUDE: -114 18 45.00000
NORTH_LATITUDE: 46 18 45.00000
SOUTH_LATITUDE: 46 15 0.00000
PRODUCTION_DATE: 2000 3 22
RASTER_ORDER: LEFT_RIGHT/TOP_BOTTOM
BAND_ORGANIZATION: SINGLE FILE
BAND_CONTENT: BLACK&WHITE
BAND_CONTENT: UNDEFINED
BAND_CONTENT: UNDEFINED
BITS_PER_PIXEL: 8
SAMPLES_AND_LINES: 5722 7719
HORIZONTAL_DATUM: NAD83
HORIZONTAL_COORDINATE_SYSTEM: UTM
COORDINATE_ZONE: 11
HORIZONTAL_UNITS: METERS
HORIZONTAL_RESOLUTION: 1.00000
SECONDARY_HORIZONTAL_DATUM: NAD27
XY_ORIGIN: 701736.00000 5132580.00000
SECONDARY_XY_ORIGIN: 701813.72500 5132373.02400
NATION: US
NATION: "SCIENCE
STATE: MT
NW_QUAD_CORNER_XY: 702109.35300 5132118.38700
NE_QUAD_CORNER_XY: 706921.32400 5132279.82000
SE_QUAD_CORNERY_XY: 707156.91000 5125335.63200
SW_QUAD_CORNER_XY: 702339.45300 5125174.18400
SECONDARY_NW_QUAD_XY: 702115.49200 5131900.31800
SECONDARY_NE_QUAD_XY: 706927.60900 5132061.75600
SECONDARY_SE_QUAD_XY: 707163.19400 5125117.60600
SECONDARY_SW_QUAD_XY: 702345.59100 5124956.15300
RMSE_XY: 3.00000
IMAGE_SOURCE: BLACK AND WHITE FILM
SOURCE_IMAGE_ID: NAPP 8407 046
SOURCE_IMAGE_DATE: 1995 08 19
SOURCE_IMAGE_ID: NAPP 8407 045
SOURCE_IMAGE_DATE: 1995 08 19
SOURCE_IMAGE_ID: NAPP 8407 047
SOURCE_IMAGE_DATE: 1995 08 19
SOURCE_IMAGE_ID: NAPP 8407 170
SOURCE_IMAGE_DATE: 1995 08 19
SOURCE_DEM_DATE: 1997 00 00
AGENCY: WESTERN MAPPING CENTER (WMC)
PRODUCER: UNDEFINED
PRODUCTION_SYSTEM: GIS/MAGIC
COMPRESSION: UNDEFINED
STANDARD_VERSION: 1996 12
METADATA_DATE: 2000 04 20
DATA_FILE_SIZE: 44173840
BYTE_COUNT: 5722
