FILENAME: O4611440.SWS.1068867.tif
QUADRANGLE_NAME: BING
QUADRANT: SW
WEST_LONGITUDE: -114 7 30.00000
EAST_LONGITUDE: -114 3 45.00000
NORTH_LATITUDE: 46 26 15.00000
SOUTH_LATITUDE: 46 22 30.00000
PRODUCTION_DATE: 2000 3 15
RASTER_ORDER: LEFT_RIGHT/TOP_BOTTOM
BAND_ORGANIZATION: SINGLE FILE
BAND_CONTENT: BLACK&WHITE
BAND_CONTENT: UNDEFINED
BAND_CONTENT: UNDEFINED
BITS_PER_PIXEL: 8
SAMPLES_AND_LINES: 5734 7736
HORIZONTAL_DATUM: NAD83
HORIZONTAL_COORDINATE_SYSTEM: UTM
COORDINATE_ZONE: 11
HORIZONTAL_UNITS: METERS
HORIZONTAL_RESOLUTION: 1.00000
SECONDARY_HORIZONTAL_DATUM: NAD27
XY_ORIGIN: 720479.00000 5147153.00000
SECONDARY_XY_ORIGIN: 720557.18400 5146946.11500
NATION: US
NATION: "SCIENCE
STATE: MT
NW_QUAD_CORNER_XY: 720852.27800 5146675.39000
NE_QUAD_CORNER_XY: 725653.20900 5146852.00300
SE_QUAD_CORNERY_XY: 725911.28600 5139907.76800
SW_QUAD_CORNER_XY: 721104.85500 5139731.13700
SECONDARY_NW_QUAD_XY: 720859.00500 5146457.26800
SECONDARY_NE_QUAD_XY: 725660.08200 5146633.88600
SECONDARY_SE_QUAD_XY: 725918.15800 5139689.68800
SECONDARY_SW_QUAD_XY: 721111.58100 5139513.05100
RMSE_XY: 1.20000
IMAGE_SOURCE: BLACK AND WHITE FILM
SOURCE_IMAGE_ID: NAPP 8406 049
SOURCE_IMAGE_DATE: 1995 07 31
SOURCE_DEM_DATE: 1997 00 00
AGENCY: WESTERN MAPPING CENTER (WMC)
PRODUCER: UNDEFINED
PRODUCTION_SYSTEM: GIS/MAGIC
COMPRESSION: UNDEFINED
STANDARD_VERSION: 1996 12
METADATA_DATE: 2000 04 20
DATA_FILE_SIZE: 44363958
BYTE_COUNT: 5734
