FILENAME: O4611439.NWS.1068415.tif
QUADRANGLE_NAME: VICTOR
QUADRANT: NW
WEST_LONGITUDE: -114 15 0.00000
EAST_LONGITUDE: -114 11 15.00000
NORTH_LATITUDE: 46 30 0.00000
SOUTH_LATITUDE: 46 26 15.00000
PRODUCTION_DATE: 2000 3 16
RASTER_ORDER: LEFT_RIGHT/TOP_BOTTOM
BAND_ORGANIZATION: SINGLE FILE
BAND_CONTENT: BLACK&WHITE
BAND_CONTENT: UNDEFINED
BAND_CONTENT: UNDEFINED
BITS_PER_PIXEL: 8
SAMPLES_AND_LINES: 5718 7727
HORIZONTAL_DATUM: NAD83
HORIZONTAL_COORDINATE_SYSTEM: UTM
COORDINATE_ZONE: 11
HORIZONTAL_UNITS: METERS
HORIZONTAL_RESOLUTION: 1.00000
SECONDARY_HORIZONTAL_DATUM: NAD27
XY_ORIGIN: 710635.00000 5153747.00000
SECONDARY_XY_ORIGIN: 710713.17200 5153539.92200
NATION: US
NATION: "SCIENCE
STATE: MT
NW_QUAD_CORNER_XY: 711008.54600 5153277.92400
NE_QUAD_CORNER_XY: 715803.99800 5153446.91000
SE_QUAD_CORNERY_XY: 716051.33500 5146502.58100
SW_QUAD_CORNER_XY: 711250.37800 5146333.57600
SECONDARY_NW_QUAD_XY: 711014.98100 5153059.75600
SECONDARY_NE_QUAD_XY: 715810.58000 5153228.74700
SECONDARY_SE_QUAD_XY: 716057.91500 5146284.45400
SECONDARY_SW_QUAD_XY: 711256.81200 5146115.44300
RMSE_XY: 3.70000
IMAGE_SOURCE: BLACK AND WHITE FILM
SOURCE_IMAGE_ID: NAPP 8406 133
SOURCE_IMAGE_DATE: 1995 07 31
SOURCE_IMAGE_ID: NAPP 8407 176
SOURCE_IMAGE_DATE: 1995 08 19
SOURCE_IMAGE_ID: NAPP 8406 132
SOURCE_IMAGE_DATE: 1995 07 31
SOURCE_IMAGE_ID: NAPP 8406 134
SOURCE_IMAGE_DATE: 1995 07 31
SOURCE_IMAGE_ID: NAPP 8406 070
SOURCE_IMAGE_DATE: 1995 07 31
SOURCE_DEM_DATE: 1997 00 00
AGENCY: WESTERN MAPPING CENTER (WMC)
PRODUCER: UNDEFINED
PRODUCTION_SYSTEM: GIS/MAGIC
COMPRESSION: UNDEFINED
STANDARD_VERSION: 1996 12
METADATA_DATE: 2000 04 20
DATA_FILE_SIZE: 44188704
BYTE_COUNT: 5718
