FILENAME: O4611438.NES.1068323.tif
QUADRANGLE_NAME: GASH POINT
QUADRANT: NE
WEST_LONGITUDE: -114 18 45.00000
EAST_LONGITUDE: -114 15 0.00000
NORTH_LATITUDE: 46 30 0.00000
SOUTH_LATITUDE: 46 26 15.00000
PRODUCTION_DATE: 2000 3 22
RASTER_ORDER: LEFT_RIGHT/TOP_BOTTOM
BAND_ORGANIZATION: SINGLE FILE
BAND_CONTENT: BLACK&WHITE
BAND_CONTENT: UNDEFINED
BAND_CONTENT: UNDEFINED
BITS_PER_PIXEL: 8
SAMPLES_AND_LINES: 5712 7723
HORIZONTAL_DATUM: NAD83
HORIZONTAL_COORDINATE_SYSTEM: UTM
COORDINATE_ZONE: 11
HORIZONTAL_UNITS: METERS
HORIZONTAL_RESOLUTION: 1.00000
SECONDARY_HORIZONTAL_DATUM: NAD27
XY_ORIGIN: 705840.00000 5153578.00000
SECONDARY_XY_ORIGIN: 705918.08500 5153370.89000
NATION: US
NATION: "SCIENCE
STATE: MT
NW_QUAD_CORNER_XY: 706213.08000 5153112.74000
NE_QUAD_CORNER_XY: 711008.54600 5153277.92400
SE_QUAD_CORNERY_XY: 711250.37800 5146333.57600
SW_QUAD_CORNER_XY: 706449.40900 5146168.37400
SECONDARY_NW_QUAD_XY: 706219.36900 5152894.56700
SECONDARY_NE_QUAD_XY: 711014.98100 5153059.75600
SECONDARY_SE_QUAD_XY: 711256.81200 5146115.44300
SECONDARY_SW_QUAD_XY: 706455.69700 5145950.23600
RMSE_XY: 4.20000
IMAGE_SOURCE: BLACK AND WHITE FILM
SOURCE_IMAGE_ID: NAPP 8406 133
SOURCE_IMAGE_DATE: 1995 07 31
SOURCE_IMAGE_ID: NAPP 8407 052
SOURCE_IMAGE_DATE: 1995 08 19
SOURCE_IMAGE_ID: NAPP 8407 174
SOURCE_IMAGE_DATE: 1995 08 19
SOURCE_IMAGE_ID: NAPP 8407 175
SOURCE_IMAGE_DATE: 1995 08 19
SOURCE_IMAGE_ID: NAPP 8407 177
SOURCE_IMAGE_DATE: 1995 08 19
SOURCE_DEM_DATE: 1997 00 00
AGENCY: WESTERN MAPPING CENTER (WMC)
PRODUCER: UNDEFINED
PRODUCTION_SYSTEM: GIS/MAGIC
COMPRESSION: UNDEFINED
STANDARD_VERSION: 1996 12
METADATA_DATE: 2000 04 20
DATA_FILE_SIZE: 44119488
BYTE_COUNT: 5712
