FILENAME: O4611432.NES.1068860.tif
QUADRANGLE_NAME: STEVENSVILLE
QUADRANT: NE
WEST_LONGITUDE: -114 3 45.00000
EAST_LONGITUDE: -114 0 0.00000
NORTH_LATITUDE: 46 37 30.00000
SOUTH_LATITUDE: 46 33 45.00000
PRODUCTION_DATE: 2000 3 14
RASTER_ORDER: LEFT_RIGHT/TOP_BOTTOM
BAND_ORGANIZATION: SINGLE FILE
BAND_CONTENT: BLACK&WHITE
BAND_CONTENT: UNDEFINED
BAND_CONTENT: UNDEFINED
BITS_PER_PIXEL: 8
SAMPLES_AND_LINES: 5724 7739
HORIZONTAL_DATUM: NAD83
HORIZONTAL_COORDINATE_SYSTEM: UTM
COORDINATE_ZONE: 11
HORIZONTAL_UNITS: METERS
HORIZONTAL_RESOLUTION: 1.00000
SECONDARY_HORIZONTAL_DATUM: NAD27
XY_ORIGIN: 724504.00000 5168166.00000
SECONDARY_XY_ORIGIN: 724582.50000 5167959.01700
NATION: US
NATION: "SCIENCE
STATE: MT
NW_QUAD_CORNER_XY: 724877.36000 5167685.04300
NE_QUAD_CORNER_XY: 729661.74300 5167865.39700
SE_QUAD_CORNERY_XY: 729926.14600 5160921.01600
SW_QUAD_CORNER_XY: 725136.24600 5160740.64000
SECONDARY_NW_QUAD_XY: 724884.23700 5167466.82200
SECONDARY_NE_QUAD_XY: 729668.76600 5167647.18200
SECONDARY_SE_QUAD_XY: 729933.16800 5160702.83500
SECONDARY_SW_QUAD_XY: 725143.12200 5160522.45300
RMSE_XY: 1.60000
IMAGE_SOURCE: BLACK AND WHITE FILM
SOURCE_IMAGE_ID: NAPP 8407 206
SOURCE_IMAGE_DATE: 1995 08 19
SOURCE_IMAGE_ID: NAPP 8407 205
SOURCE_IMAGE_DATE: 1995 08 19
SOURCE_IMAGE_ID: NAPP 8407 208
SOURCE_IMAGE_DATE: 1995 08 19
SOURCE_DEM_DATE: 1997 00 00
AGENCY: WESTERN MAPPING CENTER (WMC)
PRODUCER: UNDEFINED
PRODUCTION_SYSTEM: GIS/MAGIC
COMPRESSION: UNDEFINED
STANDARD_VERSION: 1996 12
METADATA_DATE: 2000 04 20
DATA_FILE_SIZE: 44303760
BYTE_COUNT: 5724
