FILENAME: O4611432.SES.1068862.tif
QUADRANGLE_NAME: STEVENSVILLE
QUADRANT: SE
WEST_LONGITUDE: -114 3 45.00000
EAST_LONGITUDE: -114 0 0.00000
NORTH_LATITUDE: 46 33 45.00000
SOUTH_LATITUDE: 46 30 0.00000
PRODUCTION_DATE: 2000 3 14
RASTER_ORDER: LEFT_RIGHT/TOP_BOTTOM
BAND_ORGANIZATION: SINGLE FILE
BAND_CONTENT: BLACK&WHITE
BAND_CONTENT: UNDEFINED
BAND_CONTENT: UNDEFINED
BITS_PER_PIXEL: 8
SAMPLES_AND_LINES: 5729 7739
HORIZONTAL_DATUM: NAD83
HORIZONTAL_COORDINATE_SYSTEM: UTM
COORDINATE_ZONE: 11
HORIZONTAL_UNITS: METERS
HORIZONTAL_RESOLUTION: 1.00000
SECONDARY_HORIZONTAL_DATUM: NAD27
XY_ORIGIN: 724763.00000 5161222.00000
SECONDARY_XY_ORIGIN: 724841.42700 5161015.07100
NATION: US
NATION: "SCIENCE
STATE: MT
NW_QUAD_CORNER_XY: 725136.24600 5160740.64000
NE_QUAD_CORNER_XY: 729926.14600 5160921.01600
SE_QUAD_CORNERY_XY: 730190.27400 5153976.69000
SW_QUAD_CORNER_XY: 725394.86200 5153796.29300
SECONDARY_NW_QUAD_XY: 725143.12200 5160522.45300
SECONDARY_NE_QUAD_XY: 729933.16800 5160702.83500
SECONDARY_SE_QUAD_XY: 730197.29400 5153758.54400
SECONDARY_SW_QUAD_XY: 725401.73700 5153578.14100
RMSE_XY: 1.00000
IMAGE_SOURCE: BLACK AND WHITE FILM
SOURCE_IMAGE_ID: NAPP 8407 204
SOURCE_IMAGE_DATE: 1995 08 19
SOURCE_IMAGE_ID: NAPP 8407 205
SOURCE_IMAGE_DATE: 1995 08 19
SOURCE_DEM_DATE: 1997 00 00
AGENCY: WESTERN MAPPING CENTER (WMC)
PRODUCER: UNDEFINED
PRODUCTION_SYSTEM: GIS/MAGIC
COMPRESSION: UNDEFINED
STANDARD_VERSION: 1996 12
METADATA_DATE: 2000 04 20
DATA_FILE_SIZE: 44342460
BYTE_COUNT: 5729
