FILENAME: O4611432.SWS.1068863.tif
QUADRANGLE_NAME: STEVENSVILLE
QUADRANT: SW
WEST_LONGITUDE: -114 7 30.00000
EAST_LONGITUDE: -114 3 45.00000
NORTH_LATITUDE: 46 33 45.00000
SOUTH_LATITUDE: 46 30 0.00000
PRODUCTION_DATE: 2000 3 14
RASTER_ORDER: LEFT_RIGHT/TOP_BOTTOM
BAND_ORGANIZATION: SINGLE FILE
BAND_CONTENT: BLACK&WHITE
BAND_CONTENT: UNDEFINED
BAND_CONTENT: UNDEFINED
BITS_PER_PIXEL: 8
SAMPLES_AND_LINES: 5723 7735
HORIZONTAL_DATUM: NAD83
HORIZONTAL_COORDINATE_SYSTEM: UTM
COORDINATE_ZONE: 11
HORIZONTAL_UNITS: METERS
HORIZONTAL_RESOLUTION: 1.00000
SECONDARY_HORIZONTAL_DATUM: NAD27
XY_ORIGIN: 719973.00000 5161041.00000
SECONDARY_XY_ORIGIN: 720051.36700 5160834.00400
NATION: US
NATION: "SCIENCE
STATE: MT
NW_QUAD_CORNER_XY: 720346.33200 5160564.06700
NE_QUAD_CORNER_XY: 725136.24600 5160740.64000
SE_QUAD_CORNERY_XY: 725394.86200 5153796.29300
SW_QUAD_CORNER_XY: 720599.43700 5153619.70000
SECONDARY_NW_QUAD_XY: 720353.06100 5160345.87500
SECONDARY_NE_QUAD_XY: 725143.12200 5160522.45300
SECONDARY_SE_QUAD_XY: 725401.73700 5153578.14100
SECONDARY_SW_QUAD_XY: 720606.16500 5153401.54200
RMSE_XY: 1.00000
IMAGE_SOURCE: BLACK AND WHITE FILM
SOURCE_IMAGE_ID: NAPP 8406 053
SOURCE_IMAGE_DATE: 1995 07 31
SOURCE_DEM_DATE: 1997 00 00
AGENCY: WESTERN MAPPING CENTER (WMC)
PRODUCER: UNDEFINED
PRODUCTION_SYSTEM: GIS/MAGIC
COMPRESSION: UNDEFINED
STANDARD_VERSION: 1996 12
METADATA_DATE: 2000 04 20
DATA_FILE_SIZE: 44273128
BYTE_COUNT: 5723
