FILENAME: O4611431.NES.1068410.tif
QUADRANGLE_NAME: SAINT MARY PEAK
QUADRANT: NE
WEST_LONGITUDE: -114 11 15.00000
EAST_LONGITUDE: -114 7 30.00000
NORTH_LATITUDE: 46 37 30.00000
SOUTH_LATITUDE: 46 33 45.00000
PRODUCTION_DATE: 2000 3 14
RASTER_ORDER: LEFT_RIGHT/TOP_BOTTOM
BAND_ORGANIZATION: SINGLE FILE
BAND_CONTENT: BLACK&WHITE
BAND_CONTENT: UNDEFINED
BAND_CONTENT: UNDEFINED
BITS_PER_PIXEL: 8
SAMPLES_AND_LINES: 5713 7731
HORIZONTAL_DATUM: NAD83
HORIZONTAL_COORDINATE_SYSTEM: UTM
COORDINATE_ZONE: 11
HORIZONTAL_UNITS: METERS
HORIZONTAL_RESOLUTION: 1.00000
SECONDARY_HORIZONTAL_DATUM: NAD27
XY_ORIGIN: 714935.00000 5167809.00000
SECONDARY_XY_ORIGIN: 715013.38300 5167601.88500
NATION: US
NATION: "SCIENCE
STATE: MT
NW_QUAD_CORNER_XY: 715308.55100 5167335.74200
NE_QUAD_CORNER_XY: 720092.96300 5167508.49100
SE_QUAD_CORNERY_XY: 720346.33200 5160564.06700
SW_QUAD_CORNER_XY: 715556.40300 5160391.29700
SECONDARY_NW_QUAD_XY: 715315.13500 5167117.51100
SECONDARY_NE_QUAD_XY: 720099.69400 5167290.26500
SECONDARY_SE_QUAD_XY: 720353.06100 5160345.87500
SECONDARY_SW_QUAD_XY: 715562.98600 5160173.10000
RMSE_XY: 1.40000
IMAGE_SOURCE: BLACK AND WHITE FILM
SOURCE_IMAGE_ID: NAPP 8406 065
SOURCE_IMAGE_DATE: 1995 07 31
SOURCE_IMAGE_ID: NAPP 8407 200
SOURCE_IMAGE_DATE: 1995 08 19
SOURCE_IMAGE_ID: NAPP 8407 199
SOURCE_IMAGE_DATE: 1995 08 19
SOURCE_IMAGE_ID: NAPP 8407 198
SOURCE_IMAGE_DATE: 1995 08 19
SOURCE_IMAGE_ID: NAPP 8406 067
SOURCE_IMAGE_DATE: 1995 07 31
SOURCE_DEM_DATE: 1997 00 00
AGENCY: WESTERN MAPPING CENTER (WMC)
PRODUCER: UNDEFINED
PRODUCTION_SYSTEM: GIS/MAGIC
COMPRESSION: UNDEFINED
STANDARD_VERSION: 1996 12
METADATA_DATE: 2000 04 20
DATA_FILE_SIZE: 44172916
BYTE_COUNT: 5713
