FILENAME: O4611431.SWS.1068413.tif
QUADRANGLE_NAME: SAINT MARY PEAK
QUADRANT: SW
WEST_LONGITUDE: -114 15 0.00000
EAST_LONGITUDE: -114 11 15.00000
NORTH_LATITUDE: 46 33 45.00000
SOUTH_LATITUDE: 46 30 0.00000
PRODUCTION_DATE: 2000 3 14
RASTER_ORDER: LEFT_RIGHT/TOP_BOTTOM
BAND_ORGANIZATION: SINGLE FILE
BAND_CONTENT: BLACK&WHITE
BAND_CONTENT: UNDEFINED
BAND_CONTENT: UNDEFINED
BITS_PER_PIXEL: 8
SAMPLES_AND_LINES: 5712 7728
HORIZONTAL_DATUM: NAD83
HORIZONTAL_COORDINATE_SYSTEM: UTM
COORDINATE_ZONE: 11
HORIZONTAL_UNITS: METERS
HORIZONTAL_RESOLUTION: 1.00000
SECONDARY_HORIZONTAL_DATUM: NAD27
XY_ORIGIN: 710393.00000 5160692.00000
SECONDARY_XY_ORIGIN: 710471.24600 5160484.87000
NATION: US
NATION: "SCIENCE
STATE: MT
NW_QUAD_CORNER_XY: 710766.46100 5160222.33000
NE_QUAD_CORNER_XY: 715556.40300 5160391.29700
SE_QUAD_CORNERY_XY: 715803.99800 5153446.91000
SW_QUAD_CORNER_XY: 711008.54600 5153277.92400
SECONDARY_NW_QUAD_XY: 710772.89800 5160004.12800
SECONDARY_NE_QUAD_XY: 715562.98600 5160173.10000
SECONDARY_SE_QUAD_XY: 715810.58000 5153228.74700
SECONDARY_SW_QUAD_XY: 711014.98100 5153059.75600
RMSE_XY: 2.30000
IMAGE_SOURCE: BLACK AND WHITE FILM
SOURCE_IMAGE_ID: NAPP 8407 201
SOURCE_IMAGE_DATE: 1995 08 19
SOURCE_IMAGE_ID: NAPP 8406 134
SOURCE_IMAGE_DATE: 1995 07 31
SOURCE_IMAGE_ID: NAPP 8407 200
SOURCE_IMAGE_DATE: 1995 08 19
SOURCE_IMAGE_ID: NAPP 8406 068
SOURCE_IMAGE_DATE: 1995 07 31
SOURCE_DEM_DATE: 1997 00 00
AGENCY: WESTERN MAPPING CENTER (WMC)
PRODUCER: UNDEFINED
PRODUCTION_SYSTEM: GIS/MAGIC
COMPRESSION: UNDEFINED
STANDARD_VERSION: 1996 12
METADATA_DATE: 2000 04 20
DATA_FILE_SIZE: 44148048
BYTE_COUNT: 5712
