FILENAME: O4611424.NWS.1068857.tif
QUADRANGLE_NAME: FLORENCE
QUADRANT: NW
WEST_LONGITUDE: -114 7 30.00000
EAST_LONGITUDE: -114 3 45.00000
NORTH_LATITUDE: 46 45 0.00000
SOUTH_LATITUDE: 46 41 15.00000
PRODUCTION_DATE: 2000 3 14
RASTER_ORDER: LEFT_RIGHT/TOP_BOTTOM
BAND_ORGANIZATION: SINGLE FILE
BAND_CONTENT: BLACK&WHITE
BAND_CONTENT: UNDEFINED
BAND_CONTENT: UNDEFINED
BITS_PER_PIXEL: 8
SAMPLES_AND_LINES: 5708 7736
HORIZONTAL_DATUM: NAD83
HORIZONTAL_COORDINATE_SYSTEM: UTM
COORDINATE_ZONE: 11
HORIZONTAL_UNITS: METERS
HORIZONTAL_RESOLUTION: 1.00000
SECONDARY_HORIZONTAL_DATUM: NAD27
XY_ORIGIN: 719212.00000 5181875.00000
SECONDARY_XY_ORIGIN: 719290.58800 5181667.84700
NATION: US
NATION: "SCIENCE
STATE: MT
NW_QUAD_CORNER_XY: 719585.43600 5181397.51100
NE_QUAD_CORNER_XY: 724358.78200 5181574.01800
SE_QUAD_CORNERY_XY: 724618.20600 5174629.50200
SW_QUAD_CORNER_XY: 719839.33100 5174452.97300
SECONDARY_NW_QUAD_XY: 719592.16800 5181179.22000
SECONDARY_NE_QUAD_XY: 724365.66100 5181355.73200
SECONDARY_SE_QUAD_XY: 724625.08400 5174411.24900
SECONDARY_SW_QUAD_XY: 719846.06300 5174234.71400
RMSE_XY: 1.90000
IMAGE_SOURCE: BLACK AND WHITE FILM
SOURCE_IMAGE_ID: NAPP 8408 020
SOURCE_IMAGE_DATE: 1995 08 22
SOURCE_IMAGE_ID: NAPP 8406 063
SOURCE_IMAGE_DATE: 1995 07 31
SOURCE_DEM_DATE: 1967 00 00
AGENCY: WESTERN MAPPING CENTER (WMC)
PRODUCER: UNDEFINED
PRODUCTION_SYSTEM: GIS/MAGIC
COMPRESSION: UNDEFINED
STANDARD_VERSION: 1996 12
METADATA_DATE: 2000 04 20
DATA_FILE_SIZE: 44162796
BYTE_COUNT: 5708
