FILENAME: O4611424.SES.1068858.tif
QUADRANGLE_NAME: FLORENCE
QUADRANT: SE
WEST_LONGITUDE: -114 3 45.00000
EAST_LONGITUDE: -114 0 0.00000
NORTH_LATITUDE: 46 41 15.00000
SOUTH_LATITUDE: 46 37 30.00000
PRODUCTION_DATE: 2000 3 14
RASTER_ORDER: LEFT_RIGHT/TOP_BOTTOM
BAND_ORGANIZATION: SINGLE FILE
BAND_CONTENT: BLACK&WHITE
BAND_CONTENT: UNDEFINED
BAND_CONTENT: UNDEFINED
BITS_PER_PIXEL: 8
SAMPLES_AND_LINES: 5718 7739
HORIZONTAL_DATUM: NAD83
HORIZONTAL_COORDINATE_SYSTEM: UTM
COORDINATE_ZONE: 11
HORIZONTAL_UNITS: METERS
HORIZONTAL_RESOLUTION: 1.00000
SECONDARY_HORIZONTAL_DATUM: NAD27
XY_ORIGIN: 724245.00000 5175110.00000
SECONDARY_XY_ORIGIN: 724323.57200 5174902.96400
NATION: US
NATION: "SCIENCE
STATE: MT
NW_QUAD_CORNER_XY: 724618.20600 5174629.50200
NE_QUAD_CORNER_XY: 729397.06500 5174809.83400
SE_QUAD_CORNERY_XY: 729661.74300 5167865.39700
SW_QUAD_CORNER_XY: 724877.36000 5167685.04300
SECONDARY_NW_QUAD_XY: 724625.08400 5174411.24900
SECONDARY_NE_QUAD_XY: 729404.08900 5174591.58600
SECONDARY_SE_QUAD_XY: 729668.76600 5167647.18200
SECONDARY_SW_QUAD_XY: 724884.23700 5167466.82200
RMSE_XY: 1.20000
IMAGE_SOURCE: BLACK AND WHITE FILM
SOURCE_IMAGE_ID: NAPP 8407 208
SOURCE_IMAGE_DATE: 1995 08 19
SOURCE_DEM_DATE: 1967 00 00
AGENCY: WESTERN MAPPING CENTER (WMC)
PRODUCER: UNDEFINED
PRODUCTION_SYSTEM: GIS/MAGIC
COMPRESSION: UNDEFINED
STANDARD_VERSION: 1996 12
METADATA_DATE: 2000 04 20
DATA_FILE_SIZE: 44257320
BYTE_COUNT: 5718
