FILENAME: O4611424.SWS.1068859.tif
QUADRANGLE_NAME: FLORENCE
QUADRANT: SW
WEST_LONGITUDE: -114 7 30.00000
EAST_LONGITUDE: -114 3 45.00000
NORTH_LATITUDE: 46 41 15.00000
SOUTH_LATITUDE: 46 37 30.00000
PRODUCTION_DATE: 2000 3 14
RASTER_ORDER: LEFT_RIGHT/TOP_BOTTOM
BAND_ORGANIZATION: SINGLE FILE
BAND_CONTENT: BLACK&WHITE
BAND_CONTENT: UNDEFINED
BAND_CONTENT: UNDEFINED
BITS_PER_PIXEL: 8
SAMPLES_AND_LINES: 5713 7735
HORIZONTAL_DATUM: NAD83
HORIZONTAL_COORDINATE_SYSTEM: UTM
COORDINATE_ZONE: 11
HORIZONTAL_UNITS: METERS
HORIZONTAL_RESOLUTION: 1.00000
SECONDARY_HORIZONTAL_DATUM: NAD27
XY_ORIGIN: 719466.00000 5174930.00000
SECONDARY_XY_ORIGIN: 719544.51500 5174722.89900
NATION: US
NATION: "SCIENCE
STATE: MT
NW_QUAD_CORNER_XY: 719839.33100 5174452.97300
NE_QUAD_CORNER_XY: 724618.20600 5174629.50200
SE_QUAD_CORNERY_XY: 724877.36000 5167685.04300
SW_QUAD_CORNER_XY: 720092.96300 5167508.49100
SECONDARY_NW_QUAD_XY: 719846.06300 5174234.71400
SECONDARY_NE_QUAD_XY: 724625.08400 5174411.24900
SECONDARY_SE_QUAD_XY: 724884.23700 5167466.82200
SECONDARY_SW_QUAD_XY: 720099.69400 5167290.26500
RMSE_XY: 0.70000
IMAGE_SOURCE: BLACK AND WHITE FILM
SOURCE_IMAGE_ID: NAPP 8408 018
SOURCE_IMAGE_DATE: 1995 08 22
SOURCE_IMAGE_ID: NAPP 8406 065
SOURCE_IMAGE_DATE: 1995 07 31
SOURCE_IMAGE_ID: NAPP 8406 064
SOURCE_IMAGE_DATE: 1995 07 31
SOURCE_IMAGE_ID: NAPP 8406 063
SOURCE_IMAGE_DATE: 1995 07 31
SOURCE_DEM_DATE: 1967 00 00
AGENCY: WESTERN MAPPING CENTER (WMC)
PRODUCER: UNDEFINED
PRODUCTION_SYSTEM: GIS/MAGIC
COMPRESSION: UNDEFINED
STANDARD_VERSION: 1996 12
METADATA_DATE: 2000 04 20
DATA_FILE_SIZE: 44195768
BYTE_COUNT: 5713
