FILENAME: O4611423.NES.1068753.tif
QUADRANGLE_NAME: CARLTON LAKE
QUADRANT: NE
WEST_LONGITUDE: -114 11 15.00000
EAST_LONGITUDE: -114 7 30.00000
NORTH_LATITUDE: 46 45 0.00000
SOUTH_LATITUDE: 46 41 15.00000
PRODUCTION_DATE: 2000 3 14
RASTER_ORDER: LEFT_RIGHT/TOP_BOTTOM
BAND_ORGANIZATION: SINGLE FILE
BAND_CONTENT: BLACK&WHITE
BAND_CONTENT: UNDEFINED
BAND_CONTENT: UNDEFINED
BITS_PER_PIXEL: 8
SAMPLES_AND_LINES: 5702 7731
HORIZONTAL_DATUM: NAD83
HORIZONTAL_COORDINATE_SYSTEM: UTM
COORDINATE_ZONE: 11
HORIZONTAL_UNITS: METERS
HORIZONTAL_RESOLUTION: 1.00000
SECONDARY_HORIZONTAL_DATUM: NAD27
XY_ORIGIN: 714439.00000 5181698.00000
SECONDARY_XY_ORIGIN: 714517.53400 5181490.78300
NATION: US
NATION: "SCIENCE
STATE: MT
NW_QUAD_CORNER_XY: 714812.07300 5181224.80600
NE_QUAD_CORNER_XY: 719585.43600 5181397.51100
SE_QUAD_CORNERY_XY: 719839.33100 5174452.97300
SW_QUAD_CORNER_XY: 715060.44100 5174280.24500
SECONDARY_NW_QUAD_XY: 714818.65900 5181006.51000
SECONDARY_NE_QUAD_XY: 719592.16800 5181179.22000
SECONDARY_SE_QUAD_XY: 719846.06300 5174234.71400
SECONDARY_SW_QUAD_XY: 715067.02600 5174061.98100
RMSE_XY: 1.70000
IMAGE_SOURCE: BLACK AND WHITE FILM
SOURCE_IMAGE_ID: NAPP 8406 062
SOURCE_IMAGE_DATE: 1995 07 31
SOURCE_IMAGE_ID: NAPP 8407 196
SOURCE_IMAGE_DATE: 1995 08 19
SOURCE_IMAGE_ID: NAPP 8407 195
SOURCE_IMAGE_DATE: 1995 08 19
SOURCE_IMAGE_ID: NAPP 8406 064
SOURCE_IMAGE_DATE: 1995 07 31
SOURCE_IMAGE_ID: NAPP 8406 063
SOURCE_IMAGE_DATE: 1995 07 31
SOURCE_DEM_DATE: 1967 00 00
AGENCY: WESTERN MAPPING CENTER (WMC)
PRODUCER: UNDEFINED
PRODUCTION_SYSTEM: GIS/MAGIC
COMPRESSION: UNDEFINED
STANDARD_VERSION: 1996 12
METADATA_DATE: 2000 04 20
DATA_FILE_SIZE: 44087864
BYTE_COUNT: 5702
