FILENAME: O4611423.NWS.1068754.tif
QUADRANGLE_NAME: CARLTON LAKE
QUADRANT: NW
WEST_LONGITUDE: -114 15 0.00000
EAST_LONGITUDE: -114 11 15.00000
NORTH_LATITUDE: 46 45 0.00000
SOUTH_LATITUDE: 46 41 15.00000
PRODUCTION_DATE: 2000 3 14
RASTER_ORDER: LEFT_RIGHT/TOP_BOTTOM
BAND_ORGANIZATION: SINGLE FILE
BAND_CONTENT: BLACK&WHITE
BAND_CONTENT: UNDEFINED
BAND_CONTENT: UNDEFINED
BITS_PER_PIXEL: 8
SAMPLES_AND_LINES: 5697 7727
HORIZONTAL_DATUM: NAD83
HORIZONTAL_COORDINATE_SYSTEM: UTM
COORDINATE_ZONE: 11
HORIZONTAL_UNITS: METERS
HORIZONTAL_RESOLUTION: 1.00000
SECONDARY_HORIZONTAL_DATUM: NAD27
XY_ORIGIN: 709665.00000 5181525.00000
SECONDARY_XY_ORIGIN: 709743.47900 5181317.71900
NATION: US
NATION: "SCIENCE
STATE: MT
NW_QUAD_CORNER_XY: 710038.69500 5181055.90300
NE_QUAD_CORNER_XY: 714812.07300 5181224.80600
SE_QUAD_CORNERY_XY: 715060.44100 5174280.24500
SW_QUAD_CORNER_XY: 710281.53500 5174111.32000
SECONDARY_NW_QUAD_XY: 710045.13500 5180837.60200
SECONDARY_NE_QUAD_XY: 714818.65900 5181006.51000
SECONDARY_SE_QUAD_XY: 715067.02600 5174061.98100
SECONDARY_SW_QUAD_XY: 710287.97400 5173893.05100
RMSE_XY: 1.90000
IMAGE_SOURCE: BLACK AND WHITE FILM
SOURCE_IMAGE_ID: NAPP 8407 195
SOURCE_IMAGE_DATE: 1995 08 19
SOURCE_IMAGE_ID: NAPP 8407 196
SOURCE_IMAGE_DATE: 1995 08 19
SOURCE_IMAGE_ID: NAPP 8406 062
SOURCE_IMAGE_DATE: 1995 07 31
SOURCE_DEM_DATE: 1967 00 00
AGENCY: WESTERN MAPPING CENTER (WMC)
PRODUCER: UNDEFINED
PRODUCTION_SYSTEM: GIS/MAGIC
COMPRESSION: UNDEFINED
STANDARD_VERSION: 1996 12
METADATA_DATE: 2000 04 20
DATA_FILE_SIZE: 44026416
BYTE_COUNT: 5697
