FILENAME: O4611423.SES.1068755.tif
QUADRANGLE_NAME: CARLTON LAKE
QUADRANT: SE
WEST_LONGITUDE: -114 11 15.00000
EAST_LONGITUDE: -114 7 30.00000
NORTH_LATITUDE: 46 41 15.00000
SOUTH_LATITUDE: 46 37 30.00000
PRODUCTION_DATE: 2000 3 14
RASTER_ORDER: LEFT_RIGHT/TOP_BOTTOM
BAND_ORGANIZATION: SINGLE FILE
BAND_CONTENT: BLACK&WHITE
BAND_CONTENT: UNDEFINED
BAND_CONTENT: UNDEFINED
BITS_PER_PIXEL: 8
SAMPLES_AND_LINES: 5707 7731
HORIZONTAL_DATUM: NAD83
HORIZONTAL_COORDINATE_SYSTEM: UTM
COORDINATE_ZONE: 11
HORIZONTAL_UNITS: METERS
HORIZONTAL_RESOLUTION: 1.00000
SECONDARY_HORIZONTAL_DATUM: NAD27
XY_ORIGIN: 714687.00000 5174753.00000
SECONDARY_XY_ORIGIN: 714765.45800 5174545.83400
NATION: US
NATION: "SCIENCE
STATE: MT
NW_QUAD_CORNER_XY: 715060.44100 5174280.24500
NE_QUAD_CORNER_XY: 719839.33100 5174452.97300
SE_QUAD_CORNERY_XY: 720092.96300 5167508.49100
SW_QUAD_CORNER_XY: 715308.55100 5167335.74200
SECONDARY_NW_QUAD_XY: 715067.02600 5174061.98100
SECONDARY_NE_QUAD_XY: 719846.06300 5174234.71400
SECONDARY_SE_QUAD_XY: 720099.69400 5167290.26500
SECONDARY_SW_QUAD_XY: 715315.13500 5167117.51100
RMSE_XY: 2.00000
IMAGE_SOURCE: BLACK AND WHITE FILM
SOURCE_IMAGE_ID: NAPP 8408 018
SOURCE_IMAGE_DATE: 1995 08 22
SOURCE_IMAGE_ID: NAPP 8407 198
SOURCE_IMAGE_DATE: 1995 08 19
SOURCE_IMAGE_ID: NAPP 8407 197
SOURCE_IMAGE_DATE: 1995 08 19
SOURCE_IMAGE_ID: NAPP 8407 196
SOURCE_IMAGE_DATE: 1995 08 19
SOURCE_IMAGE_ID: NAPP 8406 065
SOURCE_IMAGE_DATE: 1995 07 31
SOURCE_DEM_DATE: 1967 00 00
AGENCY: WESTERN MAPPING CENTER (WMC)
PRODUCER: UNDEFINED
PRODUCTION_SYSTEM: GIS/MAGIC
COMPRESSION: UNDEFINED
STANDARD_VERSION: 1996 12
METADATA_DATE: 2000 04 20
DATA_FILE_SIZE: 44126524
BYTE_COUNT: 5707
