Note: This header file was extracted from a digital orthophoto image that covers a full 7.5-minute quadrangle in Universal Transverse Mercator Coordinates. The State Library converted that image to Montana State Plane Coordinates, units meters, and extracted portions of the image that cover a 3.75-minute quarter-quadrangle. The coordinates given in this file do not apply to the State Plane Coordinate images.
BEGIN_USGS_DOQ_HEADER *
QUADRANGLE_NAME "BLUE MOUNTAIN" *
QUADRANT *
WEST_LONGITUDE -114 15 0.000 *
EAST_LONGITUDE -114 7 30.000 *
NORTH_LATITUDE 46 52 30.000 *
SOUTH_LATITUDE 46 45 0.000 *
PRODUCTION_DATE 2004 9 16 *
RASTER_ORDER LEFT_RIGHT/TOP_BOTTOM *
BAND_ORGANIZATION "SINGLE FILE" *
BAND_CONTENT BLACK&WHITE *
BITS_PER_PIXEL 8 *
SAMPLES_AND_LINES 10706 14837 *
HORIZONTAL_DATUM NAD83 *
HORIZONTAL_COORDINATE_SYSTEM UTM *
COORDINATE_ZONE 11 *
HORIZONTAL_UNITS METERS *
HORIZONTAL_RESOLUTION 1.0 *
SECONDARY_HORIZONTAL_DATUM NAD27 *
XY_ORIGIN 709179.630 5195592.660 *
SECONDARY_XY_ORIGIN 709258.096 5195385.446 *
NATION US *
STATE MT *
NW_QUAD_CORNER_XY 709552.260 5194945.245 *
NE_QUAD_CORNER_XY 719076.857 5195286.760 *
SE_QUAD_CORNER_XY 719585.436 5181397.512 *
SW_QUAD_CORNER_XY 710038.695 5181055.903 *
SECONDARY_NW_QUAD_XY 709558.704 5194726.884 *
SECONDARY_NE_QUAD_XY 719083.594 5195068.408 *
SECONDARY_SE_QUAD_XY 719592.170 5181179.221 *
SECONDARY_SW_QUAD_XY 710045.136 5180837.603 *
RMSE_XY 1.11 *
IMAGE_SOURCE "BLACK AND WHITE FILM" *
SOURCE_IMAGE_ID "NAPP 12668 35" *
SOURCE_IMAGE_DATE 2003 7 15 *
SOURCE_IMAGE_ID "NAPP 12668 37" *
SOURCE_IMAGE_DATE 2003 7 15 *
SOURCE_IMAGE_ID "NAPP 12668 30" *
SOURCE_IMAGE_DATE 2003 7 15 *
SOURCE_IMAGE_ID "NAPP 12668 32" *
SOURCE_IMAGE_DATE 2003 7 15 *
SOURCE_IMAGE_ID "NAPP 12668 34" *
SOURCE_IMAGE_DATE 2003 7 15 *
SOURCE_IMAGE_ID "NAPP 12668 36" *
SOURCE_IMAGE_DATE 2003 7 15 *
SOURCE_IMAGE_ID "NAPP 12668 38" *
SOURCE_IMAGE_DATE 2003 7 15 *
SOURCE_IMAGE_ID "NAPP 12668 33" *
SOURCE_IMAGE_DATE 2003 7 15 *
SOURCE_IMAGE_ID "NAPP 12668 31" *
SOURCE_IMAGE_DATE 2003 7 15 *
SOURCE_IMAGE_ID "NAPP 12668 29" *
SOURCE_IMAGE_DATE 2003 7 15 *
SOURCE_IMAGE_ID "NAPP 12661 120" *
SOURCE_IMAGE_DATE 2002 9 23 *
SOURCE_IMAGE_ID "NAPP 12661 121" *
SOURCE_IMAGE_DATE 2002 9 23 *
SOURCE_IMAGE_ID "NAPP 12661 122" *
SOURCE_IMAGE_DATE 2002 9 23 *
SOURCE_IMAGE_ID "NAPP 12661 123" *
SOURCE_IMAGE_DATE 2002 9 23 *
SOURCE_IMAGE_ID "NAPP 12661 124" *
SOURCE_IMAGE_DATE 2002 9 23 *
SOURCE_IMAGE_ID "NAPP 12667 31" *
SOURCE_IMAGE_DATE 2003 7 15 *
SOURCE_IMAGE_ID "NAPP 12667 32" *
SOURCE_IMAGE_DATE 2003 7 15 *
SOURCE_IMAGE_ID "NAPP 12667 33" *
SOURCE_IMAGE_DATE 2003 7 15 *
SOURCE_IMAGE_ID "NAPP 12667 34" *
SOURCE_IMAGE_DATE 2003 7 15 *
SOURCE_IMAGE_ID "NAPP 12667 35" *
SOURCE_IMAGE_DATE 2003 7 15 *
SOURCE_DEM_DATE 2004 1 1 *
AGENCY "WESTERN MAPPING CENTER (WMC)" *
PRODUCER "USDA FS GEOSPATIAL SERVICE AND TECHNOLOGY CENTER" *
PRODUCTION_SYSTEM "ORBIT OR_RECTIFY V.5.2" *
STANDARD_VERSION 1996 12 *
METADATA_DATE 2004 10 1 *
DATA_FILE_SIZE 158855628 *
BYTE_COUNT 10706 * *
