Note: This header file was extracted from a digital orthophoto image that covers a full 7.5-minute quadrangle in Universal Transverse Mercator Coordinates. The State Library converted that image to Montana State Plane Coordinates, units meters, and extracted portions of the image that cover a 3.75-minute quarter-quadrangle. The coordinates given in this file do not apply to the State Plane Coordinate images.
BEGIN_USGS_DOQ_HEADER *
QUADRANGLE_NAME "NORTHWEST MISSOULA" *
QUADRANT *
WEST_LONGITUDE -114 7 30.000 *
EAST_LONGITUDE -114 0 0.000 *
NORTH_LATITUDE 47 0 0.000 *
SOUTH_LATITUDE 46 52 30.000 *
PRODUCTION_DATE 2004 9 16 *
RASTER_ORDER LEFT_RIGHT/TOP_BOTTOM *
BAND_ORGANIZATION "SINGLE FILE" *
BAND_CONTENT BLACK&WHITE *
BITS_PER_PIXEL 8 *
SAMPLES_AND_LINES 10706 14852 *
HORIZONTAL_DATUM NAD83 *
HORIZONTAL_COORDINATE_SYSTEM UTM *
COORDINATE_ZONE 11 *
HORIZONTAL_UNITS METERS *
HORIZONTAL_RESOLUTION 1.0 *
SECONDARY_HORIZONTAL_DATUM NAD27 *
XY_ORIGIN 718194.900 5209838.550 *
SECONDARY_XY_ORIGIN 718273.323 5209631.351 *
NATION US *
STATE MT *
NW_QUAD_CORNER_XY 718567.230 5209176.237 *
NE_QUAD_CORNER_XY 728069.565 5209532.848 *
SE_QUAD_CORNER_XY 728601.386 5195643.477 *
SW_QUAD_CORNER_XY 719076.857 5195286.760 *
SECONDARY_NW_QUAD_XY 718573.970 5208957.827 *
SECONDARY_NE_QUAD_XY 728076.598 5209314.450 *
SECONDARY_SE_QUAD_XY 728608.416 5195425.136 *
SECONDARY_SW_QUAD_XY 719083.594 5195068.408 *
RMSE_XY 1.11 *
IMAGE_SOURCE "BLACK AND WHITE FILM" *
SOURCE_IMAGE_ID "NAPP 12667 36" *
SOURCE_IMAGE_DATE 2003 7 15 *
SOURCE_IMAGE_ID "NAPP 12667 38" *
SOURCE_IMAGE_DATE 2003 7 15 *
SOURCE_IMAGE_ID "NAPP 12666 109" *
SOURCE_IMAGE_DATE 2003 7 1 *
SOURCE_IMAGE_ID "NAPP 12666 107" *
SOURCE_IMAGE_DATE 2003 7 1 *
SOURCE_IMAGE_ID "NAPP 12667 35" *
SOURCE_IMAGE_DATE 2003 7 15 *
SOURCE_IMAGE_ID "NAPP 12667 37" *
SOURCE_IMAGE_DATE 2003 7 15 *
SOURCE_IMAGE_ID "NAPP 12667 39" *
SOURCE_IMAGE_DATE 2003 7 15 *
SOURCE_IMAGE_ID "NAPP 12666 106" *
SOURCE_IMAGE_DATE 2003 7 1 *
SOURCE_IMAGE_ID "NAPP 12666 108" *
SOURCE_IMAGE_DATE 2003 7 1 *
SOURCE_IMAGE_ID "NAPP 12666 110" *
SOURCE_IMAGE_DATE 2003 7 1 *
SOURCE_IMAGE_ID "NAPP 12668 29" *
SOURCE_IMAGE_DATE 2003 7 15 *
SOURCE_IMAGE_ID "NAPP 12668 28" *
SOURCE_IMAGE_DATE 2003 7 15 *
SOURCE_IMAGE_ID "NAPP 12668 27" *
SOURCE_IMAGE_DATE 2003 7 15 *
SOURCE_IMAGE_ID "NAPP 12668 26" *
SOURCE_IMAGE_DATE 2003 7 15 *
SOURCE_IMAGE_ID "NAPP 12668 25" *
SOURCE_IMAGE_DATE 2003 7 15 *
SOURCE_DEM_DATE 2004 1 1 *
AGENCY "WESTERN MAPPING CENTER (WMC)" *
PRODUCER "USDA FS GEOSPATIAL SERVICE AND TECHNOLOGY CENTER" *
PRODUCTION_SYSTEM "ORBIT OR_RECTIFY V.5.2" *
STANDARD_VERSION 1996 12 *
METADATA_DATE 2004 10 1 *
DATA_FILE_SIZE 159016218 *
BYTE_COUNT 10706 * *
