Note: This header file was extracted from a digital orthophoto image that covers a full 7.5-minute quadrangle in Universal Transverse Mercator Coordinates. The State Library converted that image to Montana State Plane Coordinates, units meters, and extracted portions of the image that cover a 3.75-minute quarter-quadrangle. The coordinates given in this file do not apply to the State Plane Coordinate images.
BEGIN_USGS_DOQ_HEADER *
QUADRANGLE_NAME "DEER PEAK" *
QUADRANT *
WEST_LONGITUDE -114 37 30.000 *
EAST_LONGITUDE -114 30 0.000 *
NORTH_LATITUDE 47 0 0.000 *
SOUTH_LATITUDE 46 52 30.000 *
PRODUCTION_DATE 2004 9 16 *
RASTER_ORDER LEFT_RIGHT/TOP_BOTTOM *
BAND_ORGANIZATION "SINGLE FILE" *
BAND_CONTENT BLACK&WHITE *
BITS_PER_PIXEL 8 *
SAMPLES_AND_LINES 10619 14792 *
HORIZONTAL_DATUM NAD83 *
HORIZONTAL_COORDINATE_SYSTEM UTM *
COORDINATE_ZONE 11 *
HORIZONTAL_UNITS METERS *
HORIZONTAL_RESOLUTION 1.0 *
SECONDARY_HORIZONTAL_DATUM NAD27 *
XY_ORIGIN 680184.170 5208504.150 *
SECONDARY_XY_ORIGIN 680262.223 5208296.722 *
NATION US *
STATE MT *
NW_QUAD_CORNER_XY 680557.197 5207901.735 *
NE_QUAD_CORNER_XY 690059.803 5208197.574 *
SE_QUAD_CORNER_XY 690502.875 5194307.811 *
SW_QUAD_CORNER_XY 680978.092 5194011.885 *
SECONDARY_NW_QUAD_XY 680562.763 5207683.285 *
SECONDARY_NE_QUAD_XY 690065.662 5207979.133 *
SECONDARY_SE_QUAD_XY 690508.732 5194089.429 *
SECONDARY_SW_QUAD_XY 680983.656 5193793.494 *
RMSE_XY 1.11 *
IMAGE_SOURCE "BLACK AND WHITE FILM" *
SOURCE_IMAGE_ID "NAPP 12661 45" *
SOURCE_IMAGE_DATE 2002 9 23 *
SOURCE_IMAGE_ID "NAPP 12661 47" *
SOURCE_IMAGE_DATE 2002 9 23 *
SOURCE_IMAGE_ID "NAPP 12661 74" *
SOURCE_IMAGE_DATE 2002 9 23 *
SOURCE_IMAGE_ID "NAPP 12661 76" *
SOURCE_IMAGE_DATE 2002 9 23 *
SOURCE_IMAGE_ID "NAPP 12661 44" *
SOURCE_IMAGE_DATE 2002 9 23 *
SOURCE_IMAGE_ID "NAPP 12661 46" *
SOURCE_IMAGE_DATE 2002 9 23 *
SOURCE_IMAGE_ID "NAPP 12661 48" *
SOURCE_IMAGE_DATE 2002 9 23 *
SOURCE_IMAGE_ID "NAPP 12661 77" *
SOURCE_IMAGE_DATE 2002 9 23 *
SOURCE_IMAGE_ID "NAPP 12661 75" *
SOURCE_IMAGE_DATE 2002 9 23 *
SOURCE_IMAGE_ID "NAPP 12661 73" *
SOURCE_IMAGE_DATE 2002 9 23 *
SOURCE_IMAGE_ID "NAPP 12661 27" *
SOURCE_IMAGE_DATE 2002 9 23 *
SOURCE_IMAGE_ID "NAPP 12661 26" *
SOURCE_IMAGE_DATE 2002 9 23 *
SOURCE_IMAGE_ID "NAPP 12661 25" *
SOURCE_IMAGE_DATE 2002 9 23 *
SOURCE_IMAGE_ID "NAPP 12661 24" *
SOURCE_IMAGE_DATE 2002 9 23 *
SOURCE_IMAGE_ID "NAPP 12661 23" *
SOURCE_IMAGE_DATE 2002 9 23 *
SOURCE_IMAGE_ID "NAPP 12681 240" *
SOURCE_IMAGE_DATE 2003 9 29 *
SOURCE_IMAGE_ID "NAPP 12681 241" *
SOURCE_IMAGE_DATE 2003 9 29 *
SOURCE_IMAGE_ID "NAPP 12681 242" *
SOURCE_IMAGE_DATE 2003 9 29 *
SOURCE_IMAGE_ID "NAPP 12681 243" *
SOURCE_IMAGE_DATE 2003 9 29 *
SOURCE_IMAGE_ID "NAPP 12681 244" *
SOURCE_IMAGE_DATE 2003 9 29 *
SOURCE_DEM_DATE 2004 1 1 *
AGENCY "WESTERN MAPPING CENTER (WMC)" *
PRODUCER "USDA FS GEOSPATIAL SERVICE AND TECHNOLOGY CENTER" *
PRODUCTION_SYSTEM "ORBIT OR_RECTIFY V.5.2" *
STANDARD_VERSION 1996 12 *
METADATA_DATE 2004 10 1 *
DATA_FILE_SIZE 157086867 *
BYTE_COUNT 10619 * *
