FILENAME: O4710464.SWS.1159461.tif
QUADRANGLE_NAME: ODLAND DAM
QUADRANT: SW
WEST_LONGITUDE: -104 7 30.00000
EAST_LONGITUDE: -104 3 45.00000
NORTH_LATITUDE: 47 3 45.00000
SOUTH_LATITUDE: 47 0 0.00000
PRODUCTION_DATE: 2001 9 16
RASTER_ORDER: LEFT_RIGHT/TOP_BOTTOM
BAND_ORGANIZATION: SINGLE FILE
BAND_CONTENT: BLACK&WHITE
BAND_CONTENT: UNDEFINED
BAND_CONTENT: UNDEFINED
BITS_PER_PIXEL: 8
SAMPLES_AND_LINES: 5477 7613
HORIZONTAL_DATUM: NAD83
HORIZONTAL_COORDINATE_SYSTEM: UTM
COORDINATE_ZONE: 13
HORIZONTAL_UNITS: meters
HORIZONTAL_RESOLUTION: 1.00000
SECONDARY_HORIZONTAL_DATUM: NAD27
XY_ORIGIN: 566102.00000 5212843.00000
SECONDARY_XY_ORIGIN: 566141.18400 5212623.29600
NATION: US
STATE: MT
NW_QUAD_CORNER_XY: 566444.58400 5212480.99600
NE_QUAD_CORNER_XY: 571190.59700 5212535.95800
SE_QUAD_CORNERY_XY: 571273.76000 5205590.58600
SW_QUAD_CORNER_XY: 566522.20200 5205535.61600
SECONDARY_NW_QUAD_XY: 566446.63400 5212262.44500
SECONDARY_NE_QUAD_XY: 571192.79400 5212317.40800
SECONDARY_SE_QUAD_XY: 571275.95700 5205372.06500
SECONDARY_SW_QUAD_XY: 566524.25200 5205317.09300
RMSE_XY: 2.50000
IMAGE_SOURCE: BLACK AND WHITE FILM
SOURCE_IMAGE_ID: NAPP 8631-066
SOURCE_IMAGE_DATE: 1995 7 28
SOURCE_IMAGE_ID: NAPP 10766-128
SOURCE_IMAGE_DATE: 1998 7 10
SOURCE_DEM_DATE: 1999 0 0
AGENCY: WESTERN MAPPING CENTER (WMC)
PRODUCER: WOOLPERT LLP
PRODUCTION_SYSTEM: INTERGRAPH ISPM, ISIR
COMPRESSION: UNDEFINED
STANDARD_VERSION: 1996 12
METADATA_DATE: 2001 9 27
DATA_FILE_SIZE: 41701878
BYTE_COUNT: 5477
