FILENAME: O4710463.NWS.1159457.tif
QUADRANGLE_NAME: ODLAND DAM SW
QUADRANT: NW
WEST_LONGITUDE: -104 15 0.00000
EAST_LONGITUDE: -104 11 15.00000
NORTH_LATITUDE: 47 7 30.00000
SOUTH_LATITUDE: 47 3 45.00000
PRODUCTION_DATE: 2001 9 16
RASTER_ORDER: LEFT_RIGHT/TOP_BOTTOM
BAND_ORGANIZATION: SINGLE FILE
BAND_CONTENT: BLACK&WHITE
BAND_CONTENT: UNDEFINED
BAND_CONTENT: UNDEFINED
BITS_PER_PIXEL: 8
SAMPLES_AND_LINES: 5461 7605
HORIZONTAL_DATUM: NAD83
HORIZONTAL_COORDINATE_SYSTEM: UTM
COORDINATE_ZONE: 13
HORIZONTAL_UNITS: meters
HORIZONTAL_RESOLUTION: 1.00000
SECONDARY_HORIZONTAL_DATUM: NAD27
XY_ORIGIN: 556543.00000 5219682.00000
SECONDARY_XY_ORIGIN: 556582.23300 5219462.18400
NATION: US
STATE: MT
NW_QUAD_CORNER_XY: 556885.94500 5219327.91600
NE_QUAD_CORNER_XY: 561626.41800 5219375.28800
SE_QUAD_CORNERY_XY: 561698.56600 5212429.82600
SW_QUAD_CORNER_XY: 556952.54200 5212382.44600
SECONDARY_NW_QUAD_XY: 556887.70300 5219109.33500
SECONDARY_NE_QUAD_XY: 561628.32300 5219156.70800
SECONDARY_SE_QUAD_XY: 561700.47000 5212211.27300
SECONDARY_SW_QUAD_XY: 556954.30000 5212163.89200
RMSE_XY: 2.38000
IMAGE_SOURCE: BLACK AND WHITE FILM
SOURCE_IMAGE_ID: NAPP 9123-228
SOURCE_IMAGE_DATE: 1997 8 3
SOURCE_IMAGE_ID: NAPP 9124-041
SOURCE_IMAGE_DATE: 1997 8 22
SOURCE_DEM_DATE: 1999 0 0
AGENCY: WESTERN MAPPING CENTER (WMC)
PRODUCER: WOOLPERT LLP
PRODUCTION_SYSTEM: INTERGRAPH ISPM, ISIR
COMPRESSION: UNDEFINED
STANDARD_VERSION: 1996 12
METADATA_DATE: 2001 9 27
DATA_FILE_SIZE: 41536366
BYTE_COUNT: 5461
