FILENAME: O4710463.SES.1159458.tif
QUADRANGLE_NAME: ODLAND DAM SW
QUADRANT: SE
WEST_LONGITUDE: -104 11 15.00000
EAST_LONGITUDE: -104 7 30.00000
NORTH_LATITUDE: 47 3 45.00000
SOUTH_LATITUDE: 47 0 0.00000
PRODUCTION_DATE: 2001 9 16
RASTER_ORDER: LEFT_RIGHT/TOP_BOTTOM
BAND_ORGANIZATION: SINGLE FILE
BAND_CONTENT: BLACK&WHITE
BAND_CONTENT: UNDEFINED
BAND_CONTENT: UNDEFINED
BITS_PER_PIXEL: 8
SAMPLES_AND_LINES: 5472 7609
HORIZONTAL_DATUM: NAD83
HORIZONTAL_COORDINATE_SYSTEM: UTM
COORDINATE_ZONE: 13
HORIZONTAL_UNITS: meters
HORIZONTAL_RESOLUTION: 1.00000
SECONDARY_HORIZONTAL_DATUM: NAD27
XY_ORIGIN: 561356.00000 5212788.00000
SECONDARY_XY_ORIGIN: 561395.22800 5212568.27400
NATION: US
STATE: MT
NW_QUAD_CORNER_XY: 561698.56600 5212429.82600
NE_QUAD_CORNER_XY: 566444.58400 5212480.99600
SE_QUAD_CORNERY_XY: 566522.20200 5205535.61600
SW_QUAD_CORNER_XY: 561770.63900 5205484.43800
SECONDARY_NW_QUAD_XY: 561700.47000 5212211.27300
SECONDARY_NE_QUAD_XY: 566446.63400 5212262.44500
SECONDARY_SE_QUAD_XY: 566524.25200 5205317.09300
SECONDARY_SW_QUAD_XY: 561772.54300 5205265.91300
RMSE_XY: 2.42000
IMAGE_SOURCE: BLACK AND WHITE FILM
SOURCE_IMAGE_ID: NAPP 10766-128
SOURCE_IMAGE_DATE: 1998 7 10
SOURCE_IMAGE_ID: NAPP 10766-129
SOURCE_IMAGE_DATE: 1998 7 10
SOURCE_DEM_DATE: 1999 0 0
AGENCY: WESTERN MAPPING CENTER (WMC)
PRODUCER: WOOLPERT LLP
PRODUCTION_SYSTEM: INTERGRAPH ISPM, ISIR
COMPRESSION: UNDEFINED
STANDARD_VERSION: 1996 12
METADATA_DATE: 2001 9 27
DATA_FILE_SIZE: 41641920
BYTE_COUNT: 5472
