FILENAME: O4710462.NES.1159427.tif
QUADRANGLE_NAME: CLUSTER BUTTES SE
QUADRANT: NE
WEST_LONGITUDE: -104 18 45.00000
EAST_LONGITUDE: -104 15 0.00000
NORTH_LATITUDE: 47 7 30.00000
SOUTH_LATITUDE: 47 3 45.00000
PRODUCTION_DATE: 2001 9 15
RASTER_ORDER: LEFT_RIGHT/TOP_BOTTOM
BAND_ORGANIZATION: SINGLE FILE
BAND_CONTENT: BLACK&WHITE
BAND_CONTENT: UNDEFINED
BAND_CONTENT: UNDEFINED
BITS_PER_PIXEL: 8
SAMPLES_AND_LINES: 5456 7602
HORIZONTAL_DATUM: NAD83
HORIZONTAL_COORDINATE_SYSTEM: UTM
COORDINATE_ZONE: 13
HORIZONTAL_UNITS: meters
HORIZONTAL_RESOLUTION: 1.00000
SECONDARY_HORIZONTAL_DATUM: NAD27
XY_ORIGIN: 551802.00000 5219635.00000
SECONDARY_XY_ORIGIN: 551841.30900 5219415.19300
NATION: US
STATE: MT
NW_QUAD_CORNER_XY: 552145.46700 5219284.33400
NE_QUAD_CORNER_XY: 556885.94500 5219327.91600
SE_QUAD_CORNERY_XY: 556952.54200 5212382.44600
SW_QUAD_CORNER_XY: 552206.51400 5212338.85700
SECONDARY_NW_QUAD_XY: 552147.07800 5219065.75100
SECONDARY_NE_QUAD_XY: 556887.70300 5219109.33500
SECONDARY_SE_QUAD_XY: 556954.30000 5212163.89200
SECONDARY_SW_QUAD_XY: 552208.12500 5212120.30100
RMSE_XY: 1.15000
IMAGE_SOURCE: BLACK AND WHITE FILM
SOURCE_IMAGE_ID: NAPP 9124-042
SOURCE_IMAGE_DATE: 1997 8 22
SOURCE_IMAGE_ID: NAPP 9124-041
SOURCE_IMAGE_DATE: 1997 8 22
SOURCE_DEM_DATE: 1999 0 0
AGENCY: WESTERN MAPPING CENTER (WMC)
PRODUCER: WOOLPERT LLP
PRODUCTION_SYSTEM: INTERGRAPH ISPM, ISIR
COMPRESSION: UNDEFINED
STANDARD_VERSION: 1996 12
METADATA_DATE: 2001 9 18
DATA_FILE_SIZE: 41481968
BYTE_COUNT: 5456
