FILENAME: O4710462.NWS.1159428.tif
QUADRANGLE_NAME: CLUSTER BUTTES SE
QUADRANT: NW
WEST_LONGITUDE: -104 22 30.00000
EAST_LONGITUDE: -104 18 45.00000
NORTH_LATITUDE: 47 7 30.00000
SOUTH_LATITUDE: 47 3 45.00000
PRODUCTION_DATE: 2001 9 15
RASTER_ORDER: LEFT_RIGHT/TOP_BOTTOM
BAND_ORGANIZATION: SINGLE FILE
BAND_CONTENT: BLACK&WHITE
BAND_CONTENT: UNDEFINED
BAND_CONTENT: UNDEFINED
BITS_PER_PIXEL: 8
SAMPLES_AND_LINES: 5450 7597
HORIZONTAL_DATUM: NAD83
HORIZONTAL_COORDINATE_SYSTEM: UTM
COORDINATE_ZONE: 13
HORIZONTAL_UNITS: meters
HORIZONTAL_RESOLUTION: 1.00000
SECONDARY_HORIZONTAL_DATUM: NAD27
XY_ORIGIN: 547062.00000 5219591.00000
SECONDARY_XY_ORIGIN: 547101.38600 5219371.19900
NATION: US
STATE: MT
NW_QUAD_CORNER_XY: 547404.98400 5219244.54100
NE_QUAD_CORNER_XY: 552145.46700 5219284.33400
SE_QUAD_CORNERY_XY: 552206.51400 5212338.85700
SW_QUAD_CORNER_XY: 547460.48100 5212299.05800
SECONDARY_NW_QUAD_XY: 547406.44900 5219025.95800
SECONDARY_NE_QUAD_XY: 552147.07800 5219065.75100
SECONDARY_SE_QUAD_XY: 552208.12500 5212120.30100
SECONDARY_SW_QUAD_XY: 547461.94500 5212080.50200
RMSE_XY: 1.19000
IMAGE_SOURCE: BLACK AND WHITE FILM
SOURCE_IMAGE_ID: NAPP 9095-060
SOURCE_IMAGE_DATE: 1996 7 9
SOURCE_IMAGE_ID: NAPP 9103-021
SOURCE_IMAGE_DATE: 1996 7 15
SOURCE_DEM_DATE: 1999 0 0
AGENCY: WESTERN MAPPING CENTER (WMC)
PRODUCER: WOOLPERT LLP
PRODUCTION_SYSTEM: INTERGRAPH ISPM, ISIR
COMPRESSION: UNDEFINED
STANDARD_VERSION: 1996 12
METADATA_DATE: 2001 9 18
DATA_FILE_SIZE: 41409100
BYTE_COUNT: 5450
