FILENAME: O4710462.SES.1159429.tif
QUADRANGLE_NAME: CLUSTER BUTTES SE
QUADRANT: SE
WEST_LONGITUDE: -104 18 45.00000
EAST_LONGITUDE: -104 15 0.00000
NORTH_LATITUDE: 47 3 45.00000
SOUTH_LATITUDE: 47 0 0.00000
PRODUCTION_DATE: 2001 9 15
RASTER_ORDER: LEFT_RIGHT/TOP_BOTTOM
BAND_ORGANIZATION: SINGLE FILE
BAND_CONTENT: BLACK&WHITE
BAND_CONTENT: UNDEFINED
BAND_CONTENT: UNDEFINED
BITS_PER_PIXEL: 8
SAMPLES_AND_LINES: 5462 7601
HORIZONTAL_DATUM: NAD83
HORIZONTAL_COORDINATE_SYSTEM: UTM
COORDINATE_ZONE: 13
HORIZONTAL_UNITS: meters
HORIZONTAL_RESOLUTION: 1.00000
SECONDARY_HORIZONTAL_DATUM: NAD27
XY_ORIGIN: 551863.00000 5212689.00000
SECONDARY_XY_ORIGIN: 551902.35100 5212469.26400
NATION: US
STATE: MT
NW_QUAD_CORNER_XY: 552206.51400 5212338.85700
NE_QUAD_CORNER_XY: 556952.54200 5212382.44600
SE_QUAD_CORNERY_XY: 557019.07100 5205437.05100
SW_QUAD_CORNER_XY: 552267.49800 5205393.45500
SECONDARY_NW_QUAD_XY: 552208.12500 5212120.30100
SECONDARY_NE_QUAD_XY: 556954.30000 5212163.89200
SECONDARY_SE_QUAD_XY: 557020.82800 5205218.52500
SECONDARY_SW_QUAD_XY: 552269.10900 5205174.92800
RMSE_XY: 1.26000
IMAGE_SOURCE: BLACK AND WHITE FILM
SOURCE_IMAGE_ID: NAPP 9124-040
SOURCE_IMAGE_DATE: 1997 8 22
SOURCE_IMAGE_ID: NAPP 9124-041
SOURCE_IMAGE_DATE: 1997 8 22
SOURCE_DEM_DATE: 1999 0 0
AGENCY: WESTERN MAPPING CENTER (WMC)
PRODUCER: WOOLPERT LLP
PRODUCTION_SYSTEM: INTERGRAPH ISPM, ISIR
COMPRESSION: UNDEFINED
STANDARD_VERSION: 1996 12
METADATA_DATE: 2001 9 18
DATA_FILE_SIZE: 41522124
BYTE_COUNT: 5462
